BEGIN:VCALENDAR
VERSION:2.0
PRODID:-//The Depanneur - ECPv6.8.1//NONSGML v1.0//EN
CALSCALE:GREGORIAN
METHOD:PUBLISH
X-WR-CALNAME:The Depanneur
X-ORIGINAL-URL:https://dev.thedepanneur.ca
X-WR-CALDESC:Events for The Depanneur
REFRESH-INTERVAL;VALUE=DURATION:PT1H
X-Robots-Tag:noindex
X-PUBLISHED-TTL:PT1H
BEGIN:VTIMEZONE
TZID:America/Toronto
BEGIN:DAYLIGHT
TZOFFSETFROM:-0500
TZOFFSETTO:-0400
TZNAME:EDT
DTSTART:20140309T070000
END:DAYLIGHT
BEGIN:STANDARD
TZOFFSETFROM:-0400
TZOFFSETTO:-0500
TZNAME:EST
DTSTART:20141102T060000
END:STANDARD
END:VTIMEZONE
BEGIN:VEVENT
DTSTART;TZID=America/Toronto:20140329T100000
DTEND;TZID=America/Toronto:20140329T140000
DTSTAMP:20260424T204732
CREATED:20140408T014823Z
LAST-MODIFIED:20141119T154053Z
UID:5862-1396087200-1396101600@dev.thedepanneur.ca
SUMMARY:BRUNCH by Jonna Pedersen
DESCRIPTION:Every Saturday & Sunday from 10am-2pm\, Jonna Pederson hosts brunch at The Depanneur\, with a focus on local & organic ingredients. \nCheck out the latest brunch specials!
URL:https://dev.thedepanneur.ca/event/brunch-by-jonna-pedersen-3-2/2014-03-29/
LOCATION:1033 College Street\, Toronto\, Ontario\, m6k 2b5\, Canada
CATEGORIES:Brunch
ATTACH;FMTTYPE=image/jpeg:https://dev.thedepanneur.ca/wp-content/uploads/2011/10/IMG_2704.jpg
ORGANIZER;CN="The Depanneur":MAILTO:info@thedepanneur.ca
END:VEVENT
END:VCALENDAR