BEGIN:VCALENDAR
VERSION:2.0
PRODID:-//The Depanneur - ECPv6.8.1//NONSGML v1.0//EN
CALSCALE:GREGORIAN
METHOD:PUBLISH
X-WR-CALNAME:The Depanneur
X-ORIGINAL-URL:https://dev.thedepanneur.ca
X-WR-CALDESC:Events for The Depanneur
REFRESH-INTERVAL;VALUE=DURATION:PT1H
X-Robots-Tag:noindex
X-PUBLISHED-TTL:PT1H
BEGIN:VTIMEZONE
TZID:America/Toronto
BEGIN:DAYLIGHT
TZOFFSETFROM:-0500
TZOFFSETTO:-0400
TZNAME:EDT
DTSTART:20150308T070000
END:DAYLIGHT
BEGIN:STANDARD
TZOFFSETFROM:-0400
TZOFFSETTO:-0500
TZNAME:EST
DTSTART:20151101T060000
END:STANDARD
END:VTIMEZONE
BEGIN:VEVENT
DTSTART;TZID=America/Toronto:20150104T100000
DTEND;TZID=America/Toronto:20150104T150000
DTSTAMP:20260424T183023
CREATED:20141128T182248Z
LAST-MODIFIED:20160502T215244Z
UID:14911-1420365600-1420383600@dev.thedepanneur.ca
SUMMARY:Thick Cut BRUNCH
DESCRIPTION:Every Saturday & Sunday from 10am-3pm\, Free Range Human hosts Thick Cut Brunch at The Depanneur\, with a focus on local & homemade ingredients. \nBrunch is CASH ONLY and does not take reservations.\nFor Brunch-specific inquires\, contact Brad at (647) 801-4970‬\n—– \nMix’n’Match Menu\nTwo Local Free Run Eggs  3\nUpgrade to Duck Eggs  +1\nPotato Smash Hash*  3\nSourdough Toast & Housemade Jam  3\nPineapple Baked Beans*°  3\nCreamy Corn Grits*°  3\nOrganic Baby Green & Pickled Veg Salad*°  3\nSweet Potato & Chickpea Panelle*°  3\nHouse Cured Thick Cut Molasses Bacon*  4\nTwo Housemade Sausage Patties*  4\nHouse Smoked Salmon*  5\nAdd Cheese or Tomato Sauce to Anything  +1\n*Gluten Free   °Vegan \nThe Works  14\nTwo Eggs\, Thick Cut Bacon\, Hash\, Greens & Toast \nThe Vegan  12\nPanelle\, Baked Beans\, Grits\, Greens & Toast \nFlapjack Stack  12\nTwo Pancakes! Bacon! Sausage! Greens! Over Easy Egg! Marmalade Mayo! Crème Fraîche! Yogurt! Seeds! Fruit! Compote! #Stacked \nFrench Toast Royale  9\nPan Fried Cranberry & Pumpkin Seed Bread Pudding Cubes\, Crème Fraîche\, Yogurt\, Seeds\, Fruit Compote & Maple Syrup \nPancake Plate  9\nTwo Pancakes\, Crème Fraîche\, Yogurt\, Pumpkin Seeds\, Fruit Compote & Maple Syrup \nGranola Parfait  6\nHemp & Oat Granola \, Housemade Yogurt\, Pumpkin & Sunflower Seeds\, Fruit & Fruit Compote \nKids’ Plates  5\nOne Egg Any Style\, Bacon\, & Toast\n-or-\nOne Pancake with Butter & Syrup \nDrinks\nBottomless Coffee or Tea  2\nHot Cocoa  3\nFresh-squeezed Orange or Grapefruit juice  4
URL:https://dev.thedepanneur.ca/event/brunch-free-range-human-2/2015-01-04/
LOCATION:1033 College Street\, Toronto\, Ontario\, m6k 2b5\, Canada
CATEGORIES:Brunch
ATTACH;FMTTYPE=image/jpeg:https://dev.thedepanneur.ca/wp-content/uploads/2011/10/dep-The-Works-brunch.jpg
ORGANIZER;CN="The Depanneur":MAILTO:info@thedepanneur.ca
END:VEVENT
END:VCALENDAR