BEGIN:VCALENDAR
VERSION:2.0
PRODID:-//The Depanneur - ECPv6.8.1//NONSGML v1.0//EN
CALSCALE:GREGORIAN
METHOD:PUBLISH
X-ORIGINAL-URL:https://dev.thedepanneur.ca
X-WR-CALDESC:Events for The Depanneur
REFRESH-INTERVAL;VALUE=DURATION:PT1H
X-Robots-Tag:noindex
X-PUBLISHED-TTL:PT1H
BEGIN:VTIMEZONE
TZID:America/Toronto
BEGIN:DAYLIGHT
TZOFFSETFROM:-0500
TZOFFSETTO:-0400
TZNAME:EDT
DTSTART:20140309T070000
END:DAYLIGHT
BEGIN:STANDARD
TZOFFSETFROM:-0400
TZOFFSETTO:-0500
TZNAME:EST
DTSTART:20141102T060000
END:STANDARD
END:VTIMEZONE
BEGIN:VEVENT
DTSTART;TZID=America/Toronto:20140503T100000
DTEND;TZID=America/Toronto:20140503T140000
DTSTAMP:20260424T183727
CREATED:20140507T032204Z
LAST-MODIFIED:20141119T154053Z
UID:7536-1399111200-1399125600@dev.thedepanneur.ca
SUMMARY:BRUNCH by Suzanne Wall & Brooke Gagne
DESCRIPTION:Every Saturday & Sunday from 10am-2pm\, Suzanne Wall & Brooke Gagne host brunch at The Depanneur\, with a focus on local & organic ingredients. \nOur brunch menu features a new & expanded list of $3 Mix’n’Match items — combine whichever ones you like. Every month features different seasonal specials\, and you can also add any mix’n’match item to any special. \nThere’s always great hand-pressed organic coffee\, a selection of teas\, Ontario juices and fresh-baked treats. \nCheck our Facebook page or Twitter feed for the latest specials & pics on the weekend \n 
URL:https://dev.thedepanneur.ca/event/brunch-suzanne-wall-brooke-gagne/2014-05-03/
LOCATION:1033 College Street\, Toronto\, Ontario\, m6k 2b5\, Canada
CATEGORIES:Brunch
ATTACH;FMTTYPE=image/jpeg:https://dev.thedepanneur.ca/wp-content/uploads/2011/10/IMG_2704.jpg
ORGANIZER;CN="The Depanneur":MAILTO:info@thedepanneur.ca
END:VEVENT
END:VCALENDAR