BEGIN:VCALENDAR
VERSION:2.0
PRODID:-//The Depanneur - ECPv6.8.1//NONSGML v1.0//EN
CALSCALE:GREGORIAN
METHOD:PUBLISH
X-ORIGINAL-URL:https://dev.thedepanneur.ca
X-WR-CALDESC:Events for The Depanneur
REFRESH-INTERVAL;VALUE=DURATION:PT1H
X-Robots-Tag:noindex
X-PUBLISHED-TTL:PT1H
BEGIN:VTIMEZONE
TZID:America/Toronto
BEGIN:DAYLIGHT
TZOFFSETFROM:-0500
TZOFFSETTO:-0400
TZNAME:EDT
DTSTART:20170312T070000
END:DAYLIGHT
BEGIN:STANDARD
TZOFFSETFROM:-0400
TZOFFSETTO:-0500
TZNAME:EST
DTSTART:20171105T060000
END:STANDARD
END:VTIMEZONE
BEGIN:VEVENT
DTSTART;TZID=America/Toronto:20171110T180000
DTEND;TZID=America/Toronto:20171110T210000
DTSTAMP:20260424T125327
CREATED:20171023T225030Z
LAST-MODIFIED:20180930T222906Z
UID:45980-1510336800-1510347600@dev.thedepanneur.ca
SUMMARY:CLOSED for Private Event
DESCRIPTION:Sorry y’all\, but The Dep is closed tonight for a private function. \nWe’ll be back soon with more interesting food things! \nFind out more about hosting your own Private Event at The Depanneur
URL:https://dev.thedepanneur.ca/event/closed-private-event-5/2017-11-10/
LOCATION:1033 College Street\, Toronto\, Ontario\, m6k 2b5\, Canada
ATTACH;FMTTYPE=image/jpeg:https://dev.thedepanneur.ca/wp-content/uploads/2017/05/closed-sign.jpg
ORGANIZER;CN="The Depanneur":MAILTO:info@thedepanneur.ca
END:VEVENT
END:VCALENDAR