BEGIN:VCALENDAR
VERSION:2.0
PRODID:-//The Depanneur - ECPv6.8.1//NONSGML v1.0//EN
CALSCALE:GREGORIAN
METHOD:PUBLISH
X-ORIGINAL-URL:https://dev.thedepanneur.ca
X-WR-CALDESC:Events for The Depanneur
REFRESH-INTERVAL;VALUE=DURATION:PT1H
X-Robots-Tag:noindex
X-PUBLISHED-TTL:PT1H
BEGIN:VTIMEZONE
TZID:America/Halifax
BEGIN:DAYLIGHT
TZOFFSETFROM:-0400
TZOFFSETTO:-0300
TZNAME:ADT
DTSTART:20160313T060000
END:DAYLIGHT
BEGIN:STANDARD
TZOFFSETFROM:-0300
TZOFFSETTO:-0400
TZNAME:AST
DTSTART:20161106T050000
END:STANDARD
END:VTIMEZONE
BEGIN:VEVENT
DTSTART;TZID=America/Halifax:20160715T180000
DTEND;TZID=America/Halifax:20160715T210000
DTSTAMP:20260425T234306
CREATED:20160711T222033Z
LAST-MODIFIED:20160711T233055Z
UID:26846-1468605600-1468616400@dev.thedepanneur.ca
SUMMARY:DROP-IN DINNER: Cashew Chicken Salad Wraps by Maria Rozynska
DESCRIPTION:Cool\, fresh and delicious – everything you could hope for in a lovely summer dinner\, courtesy of Maria Rozynska \nPolish Borscht (Traditional Polish Beetroot Soup)\nServed cool or warm\, this flavorful beet broth is made the traditional way using kvas – a healthy and delicious fermented dark rye base – and served with grated beetroot\, sliced boiled egg (optional) and a side of fresh light rye bread.\n$4 \nCashew Chicken Lettuce Wraps\nBite-sized tender chicken cubes with cashews in a flavorful honey-soy-ginger-garlic & sesame sauce served on a bed of lettuce topped with diced bell peppers and cilantro. Served with Mizeria (Polish Cucumber Salad): thinly sliced cucumbers served in a sour cream and fresh dill sauce with a side of rye bread.\n(#vegan options available)\n$12 \nBanana Bread Pudding\nWarm banana bread pudding with a hint of cinnamon\, custard and warm caramel drizzle.\n$5 \nPrix Fixe Menu\nBorscht + Main + Dessert\n$20 \n—–\nMaria Rozynska\, a power-mom who loves to cook for her family and who one day dreams of running her own kitchen\, using the freshest ingredients and lots of love. \n—–\nEach month The Depanneur features a different a new chef from T.O.’s indie food scene in our Thursday-night Pop-Up Showcase.
URL:https://dev.thedepanneur.ca/event/drop-in-dinner-cashew-chicken-salad-wraps-by-maria-rozynska/2016-07-15/
LOCATION:1033 College Street\, Toronto\, Ontario\, m6k 2b5\, Canada
CATEGORIES:Drop-In Dinner
ATTACH;FMTTYPE=image/jpeg:https://dev.thedepanneur.ca/wp-content/uploads/2016/07/facebook_event_1690553664541951.jpg
ORGANIZER;CN="The Depanneur":MAILTO:info@thedepanneur.ca
END:VEVENT
END:VCALENDAR