BEGIN:VCALENDAR
VERSION:2.0
PRODID:-//The Depanneur - ECPv6.8.1//NONSGML v1.0//EN
CALSCALE:GREGORIAN
METHOD:PUBLISH
X-ORIGINAL-URL:https://dev.thedepanneur.ca
X-WR-CALDESC:Events for The Depanneur
REFRESH-INTERVAL;VALUE=DURATION:PT1H
X-Robots-Tag:noindex
X-PUBLISHED-TTL:PT1H
BEGIN:VTIMEZONE
TZID:America/New_York
BEGIN:DAYLIGHT
TZOFFSETFROM:-0500
TZOFFSETTO:-0400
TZNAME:EDT
DTSTART:20160313T070000
END:DAYLIGHT
BEGIN:STANDARD
TZOFFSETFROM:-0400
TZOFFSETTO:-0500
TZNAME:EST
DTSTART:20161106T060000
END:STANDARD
END:VTIMEZONE
BEGIN:VEVENT
DTSTART;TZID=America/New_York:20161111T180000
DTEND;TZID=America/New_York:20161111T210000
DTSTAMP:20260424T124535
CREATED:20161025T003556Z
LAST-MODIFIED:20161025T010037Z
UID:29597-1478887200-1478898000@dev.thedepanneur.ca
SUMMARY:DROP-IN DINNER: Chandraseniya Kayastha Prabhu by Mugdha Pradhan
DESCRIPTION:A peek into the delicious cuisine of Chandraseniya Kayastha Prabhu (CKP) community from Maharastra\, India. The CKP Community originated near the Chenab river in Kashmir. The Kayasthas lived in the Indus Valley and are considered to be descendants of King Chandrasena. They were conferred the title of Prabhu and thus the community got the name CKP – Chandraseniya Kayastha Prabhu. Throughout history\, CKPs have traditionally been scribes and historians. \nIt’s well known that people from this community are truly fond of their food and drink. Any meeting between two members of this community will invariably end up being drawn towards discussing food and places to obtain the best varieties of it. \nCKP food is quite distinct in ingredients\, preparation & taste from other Maharashtrian food. Their culinary traditions include the use of spices like saffron and poppy seeds\, which had its origins in Kashmir and before that\, the Indus Valley plains. They continued to acquire additions to the spice bowl as the community migrated from North India to Madhya Pradesh\, and to coastal Maharashtra. From the Konkan region (in Maharastra)\, which they now call home\, they used coastal crops like mango\, coconut and red chilli and copious amounts of fresh fish and shellfish. \n—–\nKheema Pattice\nSpicy lamb mince stuffed into mashed potato and pan fried until golden and crispy.\n$6 \nKolambichi Khichadi\nA CKP speciality where shrimp and spices are cooked together with basmati rice and coconut milk to create a rich\, flavourful dish.\n$12 \nNinav\nA yummy\, soft\, fudgy dessert made of gram (brown chickpea) flour\, coconut milk and jaggery. #vegan\n$4 \nGut Instincts Kombucha\n$4 \n—–\nMugdha Pradhan is a Toronto based Author\, Healer\, Food Artist and Entrepreneur.\n“I absolutely love cooking regional Indian cuisine and have participated in several pop-up food events in India. After I moved to Canada\, I wrote my first book ‘Winning at Parenting with Nath Yoga’ and started my Probiotic beverages company – Gut Instincts Fermented Beverages in Toronto. I am a YogaMukti Therapist and absolutely love spreading the knowledge of relaxation. My intention of hosting a drop-in dinner at the Depanneur is simply to serve the food that I love to cook and build a community around it.” \n—–\nEvery Friday The Depanneur is an ‘open mic’ night for culinary talent in TO\, where we invite guest cooks\, amateur or professional\, to come and make their favourite dishes. \n 
URL:https://dev.thedepanneur.ca/event/drop-in-dinner-chandraseniya-kayastha-prabhu-by-mugdha-pradhan/2016-11-11/
LOCATION:1033 College Street\, Toronto\, Ontario\, m6k 2b5\, Canada
CATEGORIES:Drop-In Dinner
ATTACH;FMTTYPE=image/jpeg:https://dev.thedepanneur.ca/wp-content/uploads/2016/10/facebook_event_353707138299720.jpg
ORGANIZER;CN="The Depanneur":MAILTO:info@thedepanneur.ca
END:VEVENT
END:VCALENDAR