BEGIN:VCALENDAR
VERSION:2.0
PRODID:-//The Depanneur - ECPv6.8.1//NONSGML v1.0//EN
CALSCALE:GREGORIAN
METHOD:PUBLISH
X-ORIGINAL-URL:https://dev.thedepanneur.ca
X-WR-CALDESC:Events for The Depanneur
REFRESH-INTERVAL;VALUE=DURATION:PT1H
X-Robots-Tag:noindex
X-PUBLISHED-TTL:PT1H
BEGIN:VTIMEZONE
TZID:America/Halifax
BEGIN:DAYLIGHT
TZOFFSETFROM:-0400
TZOFFSETTO:-0300
TZNAME:ADT
DTSTART:20160313T060000
END:DAYLIGHT
BEGIN:STANDARD
TZOFFSETFROM:-0300
TZOFFSETTO:-0400
TZNAME:AST
DTSTART:20161106T050000
END:STANDARD
END:VTIMEZONE
BEGIN:VEVENT
DTSTART;TZID=America/Halifax:20160520T180000
DTEND;TZID=America/Halifax:20160520T210000
DTSTAMP:20260424T221617
CREATED:20160502T230726Z
LAST-MODIFIED:20160518T180553Z
UID:24961-1463767200-1463778000@dev.thedepanneur.ca
SUMMARY:DROP-IN DINNER: The Bombay Pick by Abeda Oturkar
DESCRIPTION:Abeda Oturkar grew up immersed in the flavours of Bombay (Mumbai)\, and has carried those memories with her on a professional culinary adventure that has taken her around the world. From street-food delicacies to café lunches to late-night snacks\, her menu draws from the diverse range of Indian cuisines that are drawn to this vibrant city. \n—-\nAloo Tikki Chaat\nA popular between-meals snack with a refreshing tang; four potato croquettes with yogurt mint/cilantro relish\n$5\n#vegan #GF \nKheema Pao\nOne of the most famous street food dishes in Mumbai\, this spicy mix of minced chicken and veal is enlivened with fresh green herbs infused in hot oil and served on freshly baked soft Portuguese buns (Pao) #halal\n-or-\nBhurji Pao\nMedley of mushroom\, bell pepper\, cauliflower and chick peas mashed with red onions\, garlic fried in butter – with or without paneer served on Pao.\n#Vegan & #GF \nEither Pao comes with a savoury brown gram slaw\, with legumes (Chana) and green & red cabbage in tangy tamarind sauce.\n$12 \nRhamzan Phirni\nIn a city that never sleeps\, this dessert is a favourite after-midnight treat\, served in chilled earthen bowls. An aromatic and creamy rice and semolina custard topped with pistachio.\n$4 \nPrix Fixe Menu\nAloo Tikki Chaat + Keema -or- Buhrji Pao + Ramzan Phirni\n$20 \nADD – a traditional Mumbai Pao accompaniment: Bombay-style egg salad with a fresh green chutney dressing of Koshimbir onion\, cliantro\, garlic\, and green chili\n$3 \n——\nAbeda Oturkar is a veteran food entreprenur who is equally passionate about preparing delectable recipes and providing foods that improve well-being. Over more than 11 years her Dubai-based food business\, Spice & Aroma\, grew to encompass a successful restaurant\, catering business\, cooking classes\, consulting and culinary tours. All of Abeda’s endeavours are informed by a lifelong study of food\, culinary history\, spices and nutrition. She’s now looking to bring this culinary adventure to Ontario… \n—–\nEvery Friday The Depanneur is an ‘open mic’ night for culinary talent in TO\, where we invite guest cooks\, amateur or professional\, to come and make their favourite dishes.
URL:https://dev.thedepanneur.ca/event/drop-in-dinner-the-bombay-pick-by-abeda-oturkar/2016-05-20/
LOCATION:1033 College Street\, Toronto\, Ontario\, m6k 2b5\, Canada
CATEGORIES:Drop-In Dinner
ATTACH;FMTTYPE=image/jpeg:https://dev.thedepanneur.ca/wp-content/uploads/2016/05/facebook_event_1024893214233072.jpg
ORGANIZER;CN="The Depanneur":MAILTO:info@thedepanneur.ca
END:VEVENT
END:VCALENDAR