BEGIN:VCALENDAR
VERSION:2.0
PRODID:-//The Depanneur - ECPv6.8.1//NONSGML v1.0//EN
CALSCALE:GREGORIAN
METHOD:PUBLISH
X-WR-CALNAME:The Depanneur
X-ORIGINAL-URL:https://dev.thedepanneur.ca
X-WR-CALDESC:Events for The Depanneur
REFRESH-INTERVAL;VALUE=DURATION:PT1H
X-Robots-Tag:noindex
X-PUBLISHED-TTL:PT1H
BEGIN:VTIMEZONE
TZID:America/Toronto
BEGIN:DAYLIGHT
TZOFFSETFROM:-0500
TZOFFSETTO:-0400
TZNAME:EDT
DTSTART:20160313T070000
END:DAYLIGHT
BEGIN:STANDARD
TZOFFSETFROM:-0400
TZOFFSETTO:-0500
TZNAME:EST
DTSTART:20161106T060000
END:STANDARD
END:VTIMEZONE
BEGIN:VEVENT
DTSTART;TZID=America/Toronto:20160811T180000
DTEND;TZID=America/Toronto:20160811T190000
DTSTAMP:20260424T144034
CREATED:20160809T012305Z
LAST-MODIFIED:20160809T015432Z
UID:27502-1470938400-1470942000@dev.thedepanneur.ca
SUMMARY:NEWCOMER KITCHEN - August 11
DESCRIPTION:M’tabbal koossa  متبل كوسا \n				\n			\n				\n			\n				\n				Salatet al-Zeitun سلطة زيتون\n				\n			\n				\n			\n				\n				Roz bel Haleeb  رز بحليب\n				\n		\n\nMENU — August 11 \n——\n[beef] Jazmaz  جز مز\nEggs poached or baked in a richly flavoured tomato sauce can be found in one version or another all around the Mediterranean\, across North Africa from Morocco to Israel\, where is it known as shakshouka\, with local variations also found  in Turkey\, Iraq\, Italy and Spain. I guess it should come as no surprise that Syrians have their own special version of this delicious dish. We’ll be serving it up with two mini sujuk beef sausages on the side\, and fresh pita bread. \n[vegetarian]  Jazmaz  جز مز\nThe same dish\, but with haloumi cheese.. \nM’tabbal koossa  متبل كوسا \nA relative of hummus or babaganoush\, this zucchini-based meze dip is cool and refreshing\, made with combination of thick yogurt and tahini\, seasoned with a bit garlic\, lemon and cumin. \nSalatet al-Zeitun سلطة زيتون\nAnother tasty and uncommon mezze\, this salad features chopped green olives\, tomatoes\, red & green peppers\, walnuts and green onions in a dressing of fresh thyme\, garlic\, pomegranate molasses and olive oil. \nRoz bel Haleeb  رز بحليب\nWherever you find rice\, you’ll probably find a version of rice pudding. This creamy version is scented with cardamom\, vanilla and rosewater\, and garnished with some fresh Ontario fruit.\n——\n$20 +HST \nMeals are available for pickup from The Depanneur\, 1033 College Street (between Dufferin & Dovercourt) from 6–7pm on Thursday\, Aug. 11\nfoodora sponsors FREE Delivery within 3km radius \nMeals go on sale on Tuesday at 7am.\nPlease indicate “PICKUP” or “DELIVERY” in the Order Notes at the Checkout. \n\nNewcomer Kitchen is a new project that invites groups of Syrian refugee women to use our kitchen to cook traditional Syrian dishes in a fun\, social setting. Meals are prepared and packaged\, and then sold online for pickup or delivery to pay for all the ingredients and provide an honorarium for the cooks. \nWe also offer 1 spot to help/hang out in the kitchen\, learn the recipes and join the ladies for family meal on Thursday afternoon. We are asking for a $50 donation for this\, which will go to topping up the $ we have to share with the cooks. This is available for purchase online\, on a first-come\, first-served basis. \nProceeds from the sale of meals goes directly to the newcomer cooks. However this does not cover the costs of the enormous amount of behind-the-scenes coordination required to keep this project going. You can support the Newcomer Kitchen project directly and our vision of expanding this model to support more women in more neighbourhoods! \nSupport the Newcomer Kitchen’s FundRazr campaign.\nHelp us take this idea into any restaurant kitchen\, in any city in the world! \n  \nLearn more about the Newcomer Kitchen project.
URL:https://dev.thedepanneur.ca/event/newcomer-kitchen-august-11/2016-08-11/
LOCATION:1033 College Street\, Toronto\, Ontario\, m6k 2b5\, Canada
CATEGORIES:Newcomer Kitchen
ATTACH;FMTTYPE=image/jpeg:https://dev.thedepanneur.ca/wp-content/uploads/2016/08/jazmaz.jpg
ORGANIZER;CN="The Depanneur":MAILTO:info@thedepanneur.ca
END:VEVENT
END:VCALENDAR