BEGIN:VCALENDAR
VERSION:2.0
PRODID:-//The Depanneur - ECPv6.8.1//NONSGML v1.0//EN
CALSCALE:GREGORIAN
METHOD:PUBLISH
X-ORIGINAL-URL:https://dev.thedepanneur.ca
X-WR-CALDESC:Events for The Depanneur
REFRESH-INTERVAL;VALUE=DURATION:PT1H
X-Robots-Tag:noindex
X-PUBLISHED-TTL:PT1H
BEGIN:VTIMEZONE
TZID:America/New_York
BEGIN:DAYLIGHT
TZOFFSETFROM:-0500
TZOFFSETTO:-0400
TZNAME:EDT
DTSTART:20160313T070000
END:DAYLIGHT
BEGIN:STANDARD
TZOFFSETFROM:-0400
TZOFFSETTO:-0500
TZNAME:EST
DTSTART:20161106T060000
END:STANDARD
END:VTIMEZONE
BEGIN:VEVENT
DTSTART;TZID=America/New_York:20161215T180000
DTEND;TZID=America/New_York:20161215T190000
DTSTAMP:20260426T002911
CREATED:20161212T165704Z
LAST-MODIFIED:20161212T172854Z
UID:31129-1481824800-1481828400@dev.thedepanneur.ca
SUMMARY:NEWCOMER KITCHEN — December 15
DESCRIPTION:Salata Na’ameh  سلطة ناعمة\n				\n			\n				\n			\n				\n				Lazakiat  لزاقيات\n				\n		\n\nOur last Newcomer Kitchen of 2016!\nAfter this week\, we’ll be focusing our energy on our upcoming fundraiser Sofra Dayma — a special evening in support of Newcomer Kitchen\, and then taking a well-earned break until mid-January. \n[chicken] Kabsa كبسة‎‎\nKabsa is a family of rice dishes believed to be indigenous to Saudi Arabia\, where it is commonly regarded as a national dish. I can be found in most Arab states of the Persian Gulf (where it is also known as makbūs مكبوس‎‎)\, and into Jordan\, Palestine and Southern Syria.\nThese dishes are usually made long-grain\, such as basmati\, meat – in our case halal chicken – some finely cut vegetables\, and a mixture of spices\, of which there are countless regional variations\, but might include black pepper\, cloves\, cardamom\, saffron\, cinnamon\, black lime\, bay leaves and nutmeg. This particular recipe also features the addition of tiny golden raisins. \n[vegetarian] Kabsa كبسة‎‎\nA vegetarian version of this dish\, garnished with green peas\, diced peppers\, butter-fried nuts and hard-boiled eggs. \nSalateh Naameh سلطة ناعمة\nThis quintessential Mediterranean salad can be found throughout the middle east\, with tomatoes\, cucumber\, and white onion are finely diced and seasoned with olive oil\, mint and lemon juice. \nLazakiat لزاقيات\nA spectacular dessert composed of many layers of paper-thin crepes\, seasoned with turmeric\, ginger\, anise and black sesame – traditionally cooked on the large domed saj oven – which are layered with rich sauce made from sesame halva\, and garnished with fried walnut pieces. \n$20 +HST \n\nLAST CHANCE! \nHoliday Cookie Box by Newcomer Kitchen!\n20 delicious homemade Syrian cookies — a perfect gift!\n(If you can resist eating them yourself!)\nAdd one to your Thursday order for $20. \n\nMeals are available for pickup from The Depanneur\,\n1033 College Street (between Dufferin & Dovercourt) from 6–7pm\nfoodora sponsors FREE Delivery within 3km radius\nDelivery outside 3km can be arranged with Liam Woolacoot of Saoirse Couriers\n647-676-6486  |  liamgordonwoolacoot@gmail.com\n \nMeals go on sale on Tuesday at 7am.\nPlease indicate “PICKUP” or “DELIVERY” in the Order Notes at the Checkout. \n\nNewcomer Kitchen is a new project that invites groups of Syrian refugee women to use our kitchen to cook traditional Syrian dishes in a fun\, social setting. Meals are prepared and packaged\, and then sold online for pickup or delivery to pay for all the ingredients and provide an honorarium for the cooks. \nWe also offer 1 spot to help/hang out in the kitchen\, learn the recipes and join the ladies for family meal on Thursday afternoon. We are asking for a $50 donation for this\, which will go to topping up the $ we have to share with the cooks. This is available for purchase online\, on a first-come\, first-served basis. \nProceeds from the sale of meals goes directly to the newcomer cooks. However this does not cover the costs of the enormous amount of behind-the-scenes coordination required to keep this project going. You can support the Newcomer Kitchen project directly and our vision of expanding this model to support more women in more neighbourhoods!\n—– \nHelp us take this idea into any restaurant kitchen\, in any city in the world!\nhttp://bit.ly/2gpUUu8 \nLearn more about the Newcomer Kitchen project.\nhttp://newcomerkitchen.ca/
URL:https://dev.thedepanneur.ca/event/newcomer-kitchen-december-15/2016-12-15/
LOCATION:1033 College Street\, Toronto\, Ontario\, m6k 2b5\, Canada
CATEGORIES:Newcomer Kitchen
ATTACH;FMTTYPE=image/jpeg:https://dev.thedepanneur.ca/wp-content/uploads/2016/12/facebook_event_180624222408162.jpg
END:VEVENT
END:VCALENDAR