BEGIN:VCALENDAR
VERSION:2.0
PRODID:-//The Depanneur - ECPv6.8.1//NONSGML v1.0//EN
CALSCALE:GREGORIAN
METHOD:PUBLISH
X-WR-CALNAME:The Depanneur
X-ORIGINAL-URL:https://dev.thedepanneur.ca
X-WR-CALDESC:Events for The Depanneur
REFRESH-INTERVAL;VALUE=DURATION:PT1H
X-Robots-Tag:noindex
X-PUBLISHED-TTL:PT1H
BEGIN:VTIMEZONE
TZID:America/Toronto
BEGIN:DAYLIGHT
TZOFFSETFROM:-0500
TZOFFSETTO:-0400
TZNAME:EDT
DTSTART:20160313T070000
END:DAYLIGHT
BEGIN:STANDARD
TZOFFSETFROM:-0400
TZOFFSETTO:-0500
TZNAME:EST
DTSTART:20161106T060000
END:STANDARD
END:VTIMEZONE
BEGIN:VEVENT
DTSTART;TZID=America/Toronto:20160526T180000
DTEND;TZID=America/Toronto:20160526T190000
DTSTAMP:20260424T234828
CREATED:20160523T195902Z
LAST-MODIFIED:20160524T115546Z
UID:25477-1464285600-1464289200@dev.thedepanneur.ca
SUMMARY:NEWCOMER KITCHEN — May 26
DESCRIPTION:Harraq Esbaoo حراق اصبعو \n				\n			\n				\n			\n				\n				Salateh Malfouf سلطة ملفوف \n				\n			\n				\n			\n				\n				Ghoraibeh غريبه \n				\n		\n\n\nNewcomer Kitchen is a new project that invites groups of Syrian refugee moms to use restaurant kitchens to cook food for themselves and their families in a fun\, social setting. Additional meals are prepared\, packaged and sold online for pickup or delivery to pay for all the ingredients and provide an honorarium for the cooks. \n\n\n\nNEW! – As a fundraising experiment\, we are offering up 1 guest cook spot to help/hang out in the kitchen\, learn the recipes and join the ladies for family meal on Thursday afternoon. We are asking for a $50 donation for this\, which will go to topping up the $ we have to share with the cooks. This is be available for purchase online below\, on a first-come\, first-served basis.\n\n\n \n\n\nMenu — May 26\n\n\n——\n\n\n[beef] Shamborak شمبورك \n\n\nby Ameena from Al Qameshly\, in the North of Syria.\n\n\nProbably the ancestor of every meat pie in the Western world. Thin\, yeasted wheat flour dough is stuffed with a mixture of cooked onions and halal ground beef spiced with black pepper\, and then baked (or sometimes fried). We are going to try and bake some of these in the wood-fired bread oven in Dufferin Grove Park\, weather and logistics permitting.\n\n\n \n\n\n[vegetarian] Harraq Esbaoo حراق اصبعو \n\n\nby Ameena AlShaar from Damascus. \n\n\nA very old and well-known dish in Syria\, the name translates “burning his finger”. The notion is that the dish is so delicious\, that diners can’t resist going for it before it cools\, so they burn their fingers. Lentils and fresh\, hand-cut pasta are cooked together with spices then mixed with onions\, coriander\, and a tamarind & pomegranate molasses dressing\, then garnished with crispy fried pita croutons\, caramelized onions\, fresh coriander and fresh pomegranate seeds.\n\n\n \n\n\nOk\, here’s my stab at Syrian humour: \n\n\nHow did the Syrian hipster burn his fingers? \n\n\nHe ate his Harraq Esbaoo before it was cool. \n\n\n[#rimshot]\n\n\n \n\n\nSalateh Malfouf سلطة ملفوف \n\n\nA cool\, refreshing salad made of chopped cabbage and diced tomatoes then dressed with olive oil\, garlic\, lemon juice\, sumac\, pomegranate seeds and fresh mint.\n\n\n \n\n\nGhoraibeh غريبه \n\n\nThese delicate pistachio-topped baked shortbread cookies are usually made for Eid (the celebration at the end of Ramadan) as a festive dessert. \n\n\n—–\n\n\n$20 +HST\n\n\n\nMeals will go on sale on Tuesday at 7am.\n\n\n \n\n\nMeals will be available for pickup from The Depanneur\, 1033 College Street (between Dufferin & Dovercourt) from 6–7pm on Thursday\, May 26.\n\n\n \n\n\nFoodora has sponsored FREE Delivery within 3km radius\n\n\n \n\n\nPlease indicate “PICKUP” or “DELIVERY” in the Order Notes at the Checkout.\n\n\n \n\n\nTonight’s meal is available in limited quantities. Proceeds from the sales of these dishes help pay for all the ingredients prepared by the moms to take home to their families\, with any remaining proceeds shared amongst the cooks. Your support is greatly appreciated. \n\n\n \n\n\nLearn more about the Newcomer Kitchen project.
URL:https://dev.thedepanneur.ca/event/newcomer-kitchen-may-26/2016-05-26/
LOCATION:1033 College Street\, Toronto\, Ontario\, m6k 2b5\, Canada
CATEGORIES:Newcomer Kitchen
ATTACH;FMTTYPE=image/png:https://dev.thedepanneur.ca/wp-content/uploads/2016/05/shamborak-e1529681104331.png
ORGANIZER;CN="The Depanneur":MAILTO:info@thedepanneur.ca
END:VEVENT
END:VCALENDAR