BEGIN:VCALENDAR
VERSION:2.0
PRODID:-//The Depanneur - ECPv6.8.1//NONSGML v1.0//EN
CALSCALE:GREGORIAN
METHOD:PUBLISH
X-ORIGINAL-URL:https://dev.thedepanneur.ca
X-WR-CALDESC:Events for The Depanneur
REFRESH-INTERVAL;VALUE=DURATION:PT1H
X-Robots-Tag:noindex
X-PUBLISHED-TTL:PT1H
BEGIN:VTIMEZONE
TZID:America/New_York
BEGIN:DAYLIGHT
TZOFFSETFROM:-0500
TZOFFSETTO:-0400
TZNAME:EDT
DTSTART:20160313T070000
END:DAYLIGHT
BEGIN:STANDARD
TZOFFSETFROM:-0400
TZOFFSETTO:-0500
TZNAME:EST
DTSTART:20161106T060000
END:STANDARD
END:VTIMEZONE
BEGIN:VEVENT
DTSTART;TZID=America/New_York:20161110T180000
DTEND;TZID=America/New_York:20161110T190000
DTSTAMP:20260424T102609
CREATED:20161107T233907Z
LAST-MODIFIED:20161108T125108Z
UID:30033-1478800800-1478804400@dev.thedepanneur.ca
SUMMARY:NEWCOMER KITCHEN — November 10
DESCRIPTION:Majaddarat Bulgur مجدرة برغل\n				\n			\n				\n			\n				\n				Khyar Belaban خيار بلبن\n				\n			\n				\n			\n				\n				Harisa هريسة\n				\n		\n\n[beef] Fatayer Lahmeh فطاير لحمة\n-or-\n[cheese] Fatayer Jibneh فطاير جبنة\nFatayer are a whole category delicious small baked treats that range from open-face\, pizza-like flatbreads to cute little baked turnovers\, with countless different shapes and fillings. Tonight you can cheese fatayer lahmeh stuffed with spiced halal ground beef\, or fatayer jibneh\, stuffed with a mix of cheeses\, green onion\, parsley and black sesame seeds. \n[vegetarian] Majaddarat Bulgur مجدرة برغل\nWell known in many Syrian villages\, this staple dish of bulgur\, lentils and onions is highly regarded for its nutritional value and health benefits. In Syria\, lentils\, with their high iron content\, are sometimes called the “meat of the poor” ( المجدرة لحم الفقراء); or “nails for your knees” (المجدرة مسمامير الركب) in the sense that they help keep you on your feet for a long time. In majaddarat\, brown lentils are boiled then bulgur is added to the broth; sliced onions slowly caramelized in olive oil\, until crispy and then the flavoured oil is added to the lentil-bulgur mix. The finished dish is topped with the fried onions\, and served with a garnish of fresh vegetables and a selection of pickles. \nKhyar belaban خيار بلبن\nMuch like tzatziki\, it’s well-known Greek cousin\, this combines cool yogurt with garlic and cucumbers\, but the addition of mint makes for an especially cool and refreshing salad. \nHarisa هريسة\nA relative of namoura or babousa\, this is one of the region’s many delicious syrup-soaked semolina cakes. This one doesn’t use yogurt\, but rather tahini\, giving an extra rich\, nutty flavour. \n$20 +HST \nMeals are available for pickup from The Depanneur\, 1033 College Street (between Dufferin & Dovercourt) from 6–7pm on Thursday\, Nov. 10\nfoodora sponsors FREE Delivery within 3km radius \nMeals go on sale on Tuesday at 7am.\nPlease indicate “PICKUP” or “DELIVERY” in the Order Notes at the Checkout. \n\nNewcomer Kitchen is a new project that invites groups of Syrian refugee women to use our kitchen to cook traditional Syrian dishes in a fun\, social setting. Meals are prepared and packaged\, and then sold online for pickup or delivery to pay for all the ingredients and provide an honorarium for the cooks. \nWe also offer 1 spot to help/hang out in the kitchen\, learn the recipes and join the ladies for family meal on Thursday afternoon. We are asking for a $50 donation for this\, which will go to topping up the $ we have to share with the cooks. This is available for purchase online\, on a first-come\, first-served basis. \nProceeds from the sale of meals goes directly to the newcomer cooks. However this does not cover the costs of the enormous amount of behind-the-scenes coordination required to keep this project going. You can support the Newcomer Kitchen project directly and our vision of expanding this model to support more women in more neighbourhoods!\n—– \nHelp us take this idea into any restaurant kitchen\, in any city in the world!\nhttp://bit.ly/2egZ0Vi \nLearn more about the Newcomer Kitchen project.\nhttp://newcomerkitchen.ca/
URL:https://dev.thedepanneur.ca/event/newcomer-kitchen-nov-10/2016-11-10/
LOCATION:1033 College Street\, Toronto\, Ontario\, m6k 2b5\, Canada
CATEGORIES:Newcomer Kitchen
ATTACH;FMTTYPE=image/jpeg:https://dev.thedepanneur.ca/wp-content/uploads/2016/11/facebook_event_586844924834604.jpg
END:VEVENT
END:VCALENDAR