BEGIN:VCALENDAR
VERSION:2.0
PRODID:-//The Depanneur - ECPv6.8.1//NONSGML v1.0//EN
CALSCALE:GREGORIAN
METHOD:PUBLISH
X-ORIGINAL-URL:https://dev.thedepanneur.ca
X-WR-CALDESC:Events for The Depanneur
REFRESH-INTERVAL;VALUE=DURATION:PT1H
X-Robots-Tag:noindex
X-PUBLISHED-TTL:PT1H
BEGIN:VTIMEZONE
TZID:America/Toronto
BEGIN:DAYLIGHT
TZOFFSETFROM:-0500
TZOFFSETTO:-0400
TZNAME:EDT
DTSTART:20190310T070000
END:DAYLIGHT
BEGIN:STANDARD
TZOFFSETFROM:-0400
TZOFFSETTO:-0500
TZNAME:EST
DTSTART:20191103T060000
END:STANDARD
END:VTIMEZONE
BEGIN:VEVENT
DTSTART;TZID=America/Toronto:20190525T100000
DTEND;TZID=America/Toronto:20190525T143000
DTSTAMP:20260424T073320
CREATED:20190520T222903Z
LAST-MODIFIED:20191115T174356Z
UID:71090-1558778400-1558794600@dev.thedepanneur.ca
SUMMARY:BRUNCH: Savor
DESCRIPTION:The exciting new Brunch residency at The Dep\nSAT & SUN 10am–2:30pm \nA collective of talented chef-friends with diverse backgrounds and eclectic sensibilities bring a lifetime of global travel and food experiences to The Dep. \nGlobal flavours meet local ingredients\, fresh perspectives and classic techniques… the result is your new favourite brunch! @savor_popup \n\n\n		\n		\n			\n				\n			\n			\n				\n			\n			\n				\n			\n			\n				\n			\n			\n		\n\n  \nBrunch Menu\nShakshuka 12  (v)\nEggs poached in spicy tomato sauce\, with housemade goat cheese crumbs\, crispy baguette\, cilantro \nArepa 14  (GF)\nSlow-cooked pulled pork on an open-face corn masa bun with pickled red onion\, chunky pineapple salsa and lime-cilantro-jalapeno sauce. \nCarbonara 13\nSpaghetti with poached egg\, crispy pancetta\, chilli flakes\, in a creamy garlic sauce. \nRoasted Zucchini 13 (V)\nCreamy scrambled egg with chives\, spread over crispy baguette alongside roasted zucchini with marinated diced tomatoes. (available #vegan) \nApple Bread Pudding 6\nWith dulce de leche \n\nSub GF Chickpea Focaccia for baguette +$2 \nAsk about our Kids’ plate \n~ \nSIDES \nRoasted Potatoes 4 \nChickpea Focaccia 4 \nPulled Pork 6 \nBaby Mix Salad 4 \nHousemade Pickles 4 \n~ \nDRINKS \nBottomless Coffee 3 \nOrange Juice 4 \n\nSAVOR | @savor_popup\nAlex | @Alexseo_here\nA multicultural food lover who fell in love with culinary arts in one of the most diverse cities around the world. For me\, cooking is all about passion. My goal is to deliver a bit of that passion to people through my dishes. The idea is to put smile on people’s faces and to make them feel nurtured. French cuisine ignited a spark in my soul long time ago. \nMelanie | @that_acadian_girl\n“Let food be thy medicine and medicine be thy food” (Hippocrates). Real food nourishes my body. For years now\, I have been advocating whole foods. Being a vegetarian for over 20 years and having traveled to over 50 countries\, I have discovered tastes and cooking skills that nothing in a box or a can has to offer. I’d like to share my love of whole foods and what you can do with it. \nShane |  @chefshaine_n\nI grew up in the hills of Jamaica with my family who are farmers. Life is simple and as the eldest child\, I would always help my grandparents out on the farm as much as I could. When I am home\, I am always next to my mother in the kitchen cooking up some tasty dishes. This trend of always being in the kitchen I think is what drove me to attend chef school and doing further studies.
URL:https://dev.thedepanneur.ca/event/soft-launch-savor-brunch/2019-05-25/
LOCATION:1033 College Street\, Toronto\, Ontario\, m6k 2b5\, Canada
CATEGORIES:Brunch
ATTACH;FMTTYPE=image/jpeg:https://dev.thedepanneur.ca/wp-content/uploads/2019/05/savor-menu-header.jpg
ORGANIZER;CN="The Depanneur":MAILTO:info@thedepanneur.ca
END:VEVENT
END:VCALENDAR