BEGIN:VCALENDAR
VERSION:2.0
PRODID:-//The Depanneur - ECPv6.8.1//NONSGML v1.0//EN
CALSCALE:GREGORIAN
METHOD:PUBLISH
X-WR-CALNAME:The Depanneur
X-ORIGINAL-URL:https://dev.thedepanneur.ca
X-WR-CALDESC:Events for The Depanneur
REFRESH-INTERVAL;VALUE=DURATION:PT1H
X-Robots-Tag:noindex
X-PUBLISHED-TTL:PT1H
BEGIN:VTIMEZONE
TZID:America/Halifax
BEGIN:DAYLIGHT
TZOFFSETFROM:-0400
TZOFFSETTO:-0300
TZNAME:ADT
DTSTART:20160313T060000
END:DAYLIGHT
BEGIN:STANDARD
TZOFFSETFROM:-0300
TZOFFSETTO:-0400
TZNAME:AST
DTSTART:20161106T050000
END:STANDARD
END:VTIMEZONE
BEGIN:VEVENT
DTSTART;TZID=America/Halifax:20161008T193000
DTEND;TZID=America/Halifax:20161008T223000
DTSTAMP:20260424T135751
CREATED:20160912T210516Z
LAST-MODIFIED:20160912T210758Z
UID:28396-1475955000-1475965800@dev.thedepanneur.ca
SUMMARY:SUPPER CLUB: Thanksgiving Dinner by Chef Michael Kirkwood
DESCRIPTION:The classic Thanksgiving Dinner: juicy turkey with stuffing and all the fixings\, roasted fall vegetables\, potatoes and gravy\, pumpking pie… There’s a lot of reasons that it is a much loved tradtion. But it is a LOT of work\, and only rarely does it really live up to its full potential. Well this year\, why not let veteran Chef Michael Kirkwood put his 20+ years experience to work to show you just how amazing a Thanksgiving dinner can really be? \nTake this opportunity to sit down with friends\, give thanks and celebrate the fall season with Chef Michael and The Depanneur’s Len Senater. The food will be out of this world and we’ll do all the dishes — now that’s something you can be thankful for! \n—-\nBrined and roasted organic turkey\n Chestnut and sourdough dressing\n Potato\, apple and Comte cheese pavé\n Roasted multi-colored carrots with birch syrup\n Roasted brussel sprouts with leek and thyme\n Pickled beet salad with walnuts\, arugula\, gooseberries\, goats cheese\n Israeli couscous and pesto salad\n Natural pan gravy\n Pumpkin pie with whipped mascarpone\n Assorted homemade cookies\n—– \n$50 +HST \nThanksgiving Special:\n10% rebate if you book a whole table (8 people) \n—–\nChef Michael Kirkwood grew up in Ajax\, Ontario where his appreciation for food and local ingredients flourished at a young age. Inspired by his parents’ gourmet interests\, he began working in local restaurants as a teenager where his passion for cooking grew. He then went on to study culinary arts in Toronto at George Brown College\, and has since established his reputation in several of Toronto’s top kitchens\, including Avalon\, Toro\, Opus\, and Turf Lounge. \nChef Michael now runs the Birchwood Kitchen\, a mobile culinary studio providing cooking classes for both children and adults\, as well as private seasonal tastings and small event catering. \n—–\nEvery weekend The Depanneur invites an amateur or professional guest chef to host a fun\, informal BYOB dinner party.
URL:https://dev.thedepanneur.ca/event/supper-club-thanksgiving-dinner-by-chef-michael-kirkwood/2016-10-08/
LOCATION:1033 College Street\, Toronto\, Ontario\, m6k 2b5\, Canada
CATEGORIES:Supper Clubs
ATTACH;FMTTYPE=image/jpeg:https://dev.thedepanneur.ca/wp-content/uploads/2016/09/facebook_event_1079475325423532.jpg
ORGANIZER;CN="The Depanneur":MAILTO:info@thedepanneur.ca
END:VEVENT
END:VCALENDAR