BEGIN:VCALENDAR
VERSION:2.0
PRODID:-//The Depanneur - ECPv6.8.1//NONSGML v1.0//EN
CALSCALE:GREGORIAN
METHOD:PUBLISH
X-ORIGINAL-URL:https://dev.thedepanneur.ca
X-WR-CALDESC:Events for The Depanneur
REFRESH-INTERVAL;VALUE=DURATION:PT1H
X-Robots-Tag:noindex
X-PUBLISHED-TTL:PT1H
BEGIN:VTIMEZONE
TZID:America/Toronto
BEGIN:DAYLIGHT
TZOFFSETFROM:-0500
TZOFFSETTO:-0400
TZNAME:EDT
DTSTART:20180311T070000
END:DAYLIGHT
BEGIN:STANDARD
TZOFFSETFROM:-0400
TZOFFSETTO:-0500
TZNAME:EST
DTSTART:20181104T060000
END:STANDARD
END:VTIMEZONE
BEGIN:VEVENT
DTSTART;TZID=America/Toronto:20181027T100000
DTEND;TZID=America/Toronto:20181027T150000
DTSTAMP:20260424T072205
CREATED:20181003T212400Z
LAST-MODIFIED:20181028T135525Z
UID:60486-1540634400-1540652400@dev.thedepanneur.ca
SUMMARY:CANCELLED — BRUNCH POP-UP: Parve AF Vegan Appetizings and Knisherie
DESCRIPTION:“Due to a series of unfortunate (but sure to make entertaining anecdotes to n the future) events\, tomorrow’s brunch at the Depanneur is cancelled. Many thanks to those who came out today\, and I hope to see you all next time.”\n— Emily Zimmerman\n\nPear and Pepper’s Parve AF Vegan Appetizings and Knisherie is s a Jewish brunch pop-up\, drawing on chef Emily Zimmerman’s long tenure as the Depanneur’s resident plant-based balabusta (home cook and homemaker supreme). \nEmily has been veganizing classic New York-style Ashkenazi dishes for years. Now these dishes\, based on both restaurant treats and family favourites\, are available for brunch! \nFeaturing Emily’s signature knishes — delicious\, flaky pastries with hearty\, savoury fillings — along with  brunchy delights like her fool-your-Bubby eggy tofu scramble with caramelized onions. And what would any appetizings menu be without a “dairy plate\,” or rather\, a non-dairy plate\, piled with the complete selection of sides\, salads\, spreads\, and schmeckens (little noshes). \n—–\nClassic potato and mushroom knish with two sides $12 \nBrick Lane bubble’n’squeak knish with two sides $12 \nTofu scramble with caramelized onion\, rye toast\, choice of side $12 \nParve platter: all the sides\, rye toast $12 \nAdditional sides $3 each \nSides $3\nPotato Salad with lots of dill and pickles\nI can’t believe it’s not Egg Salad\nJackfruit smoked “fish” paté\nCucumber and scallion salad\nSunflower seed Chopped “Liver” \n+ Coffee & pastries\n—– \nOct 27-28 | 10am-2:30pm | CASH ONLY\n—–\nEmily Zimmerman is the lady behind Pear and Pepper; she works as a community kitchen coordinator by day\, fabulous vegan chef by night. She can be found at food events around the city\, as well as at The Depanneur hosting the occasional vegan Workshop or Supper Club.
URL:https://dev.thedepanneur.ca/event/surprise-brunch-pop-up/2018-10-27/
LOCATION:1033 College Street\, Toronto\, Ontario\, m6k 2b5\, Canada
CATEGORIES:Brunch
ATTACH;FMTTYPE=image/jpeg:https://dev.thedepanneur.ca/wp-content/uploads/2018/10/knish.jpg
ORGANIZER;CN="The Depanneur":MAILTO:info@thedepanneur.ca
END:VEVENT
END:VCALENDAR