BEGIN:VCALENDAR
VERSION:2.0
PRODID:-//The Depanneur - ECPv6.8.1//NONSGML v1.0//EN
CALSCALE:GREGORIAN
METHOD:PUBLISH
X-ORIGINAL-URL:https://dev.thedepanneur.ca
X-WR-CALDESC:Events for The Depanneur
REFRESH-INTERVAL;VALUE=DURATION:PT1H
X-Robots-Tag:noindex
X-PUBLISHED-TTL:PT1H
BEGIN:VTIMEZONE
TZID:America/Halifax
BEGIN:DAYLIGHT
TZOFFSETFROM:-0400
TZOFFSETTO:-0300
TZNAME:ADT
DTSTART:20160313T060000
END:DAYLIGHT
BEGIN:STANDARD
TZOFFSETFROM:-0300
TZOFFSETTO:-0400
TZNAME:AST
DTSTART:20161106T050000
END:STANDARD
END:VTIMEZONE
BEGIN:VEVENT
DTSTART;TZID=America/Halifax:20160503T180000
DTEND;TZID=America/Halifax:20160503T210000
DTSTAMP:20260424T123130
CREATED:20160404T215210Z
LAST-MODIFIED:20160503T012230Z
UID:24171-1462298400-1462309200@dev.thedepanneur.ca
SUMMARY:TABLE TALK: Naomi Duguid
DESCRIPTION:Photographer\, storyteller\, traveller and award-winning cookbook author Naomi Duguid is known for her insatiable curiosity about food and culture. \nNaomi will reflecting on a lifetime spent travelling\, eating and researching food\, looking at food as a lens for understanding place and culture. From Burma to Iran\, the Caucasus to Tibet to Toronto\, food is a fundamental entry point into understanding local culture. \n—–\nDinner by Len Senater\nDelicate Burmese Lemongrass Fish Salad (from Naomi Duguid’s Burma: Rivers of Flavour)\nBasa fillets lightly poached in a turmeric broth\, flaked and tossed with lemongrass\, garlic\, ginger and cripsy shallots\, served with jasmine rice and Gin Thoke\, a tangy & crunchy slaw of nappa cabbage\, crispy fried lentil & broad beans\, peanuts and lemon-pickled fresh ginger.\n#GF #vegan option available \nDessert\nChocolate ginger cake with pomegranate & Chinese manadrins.\n$4\n—– \nDoors open at 6pm\, talk starts at 7pm\nincludes dinner and coffee or tea.\n$20 (+HST) \n—-\nNaomi Duguid is a traveller\, writer\, photographer\, cook\, and author\, but is as often described as a culinary anthropologist. She is the author of the acclaimed BURMA: Rivers of Flavor and the co-author of six other award-winning books of food and travel\, as well as a frequent contributor to Lucky Peach\, and a contributing editor of Saveur magazine. \nHer books explore home-cooked foods in their cultural context\, with recipes and photographs as well as stories. Her latest book BURMA: Rivers of Flavor celebrates the food cultures of Burma in recipes\, stories\, and photos. It was published in October 2012 and won the IACP culinary travel cookbook award in April 2013. \nHer next book TASTE OF PERSIA: A Cook’s Travels Through Armenia\, Azerbaijan\, Georgia\, Iran\, & Kurdistan will be published in September 2016.\nhttp://naomiduguid.com/ \n—–\nLen Senater is the founder and proprietor of The Depanneur\, who happily cooks for his friends and neighbours. \n—–\nPhoto Credit: Laura Berman \n—–\nEvery month The Depanneur invites a local food personality to talk about something that interests them while Dep founder Len Senater cooks dinner for everyone.
URL:https://dev.thedepanneur.ca/event/table-talk-naomi-duguid/2016-05-03/
LOCATION:1033 College Street\, Toronto\, Ontario\, m6k 2b5\, Canada
CATEGORIES:Table Talks
ATTACH;FMTTYPE=image/jpeg:https://dev.thedepanneur.ca/wp-content/uploads/2016/04/facebook_event_1607949072862922.jpg
ORGANIZER;CN="The Depanneur":MAILTO:info@thedepanneur.ca
END:VEVENT
END:VCALENDAR