BEGIN:VCALENDAR
VERSION:2.0
PRODID:-//The Depanneur - ECPv6.8.1//NONSGML v1.0//EN
CALSCALE:GREGORIAN
METHOD:PUBLISH
X-ORIGINAL-URL:https://dev.thedepanneur.ca
X-WR-CALDESC:Events for The Depanneur
REFRESH-INTERVAL;VALUE=DURATION:PT1H
X-Robots-Tag:noindex
X-PUBLISHED-TTL:PT1H
BEGIN:VTIMEZONE
TZID:America/New_York
BEGIN:DAYLIGHT
TZOFFSETFROM:-0500
TZOFFSETTO:-0400
TZNAME:EDT
DTSTART:20160313T070000
END:DAYLIGHT
BEGIN:STANDARD
TZOFFSETFROM:-0400
TZOFFSETTO:-0500
TZNAME:EST
DTSTART:20161106T060000
END:STANDARD
END:VTIMEZONE
BEGIN:VEVENT
DTSTART;TZID=America/New_York:20161108T180000
DTEND;TZID=America/New_York:20161108T210000
DTSTAMP:20260424T074313
CREATED:20161010T214425Z
LAST-MODIFIED:20161024T212933Z
UID:29177-1478628000-1478638800@dev.thedepanneur.ca
SUMMARY:TABLE TALK: Tonya Surman — The Revolution starts in the Kitchen
DESCRIPTION:Tonya Surman is one of Canada’s leading social entrepreneurs\, forging visionary ideas that inspire\, models that harness collaboration\, and spaces that accelerate systemic change. \nTonight’s talk — Revolution starts in the Kitchen — will look at the power of food for social change. Food is one of the most universal and fundamental human experiences\, one that touches almost every aspect of our lives and culture\, so changing our relationship to food can have a powerful impact on nearly all facets of our society. \nThis resonates closely to the spirit of The Depanneur\, which has always sought to explore new models for food in the city. The Dep is an ongoing exploration into how we can lower barriers to entry\, increase diverstity and participation\, create economic opportunity\, support social justice and build community through food.\n—– \nDinner by Len Senater \n“Remember\, remember\, the 5th of November\nThe Gunpowder Treason and plot;\nI know of no reason why Gunpowder Treason\nShould ever be forgot”\n— Traditional Guy Fawkes Night rhyme \nWith the theme of revolution in November\, I’ve put together a UK-inspired fall menu in celebration of Guy Fawkes Night (Nov. 5). For those that are unfamiliar\, this holiday of sorts (also known as Bonfire Night) commemorates the foiling of Fawkes’ plot to blow up the British parliament in 1605. Some may be more familiar with the contemporary icon of the Guy Fawkes mask that emerged from the graphic novel and film\, V for Vendetta\, which has since become more or less the logo for the hacktivist group Anonymous. \nFor the main course\, I’ve chosen two British dishes that are quietly revolutionary in their own way: Woolton Pie and Fergus Salad. Woolton Pie introduced to the UK by Lord Woolton at the height of the WWII blockade in an effort to address severe meat shortages. Essentially a root vegetable pot pie\, it sought to encourage the use of plant-based\, local\, seasonal and abundant ingredients (many produced by Women’s Land Army\, another bit of revolutionary wartime policy) at a time when imported good were scarce; a foreshadowing of many contemporary food policy goals. One unexpected result of this government-sponsored vegetarianism was an overall boost in public health. \nFergus Salad\, made with beets\, red cabbage\, red onions and capers\, is named after acclaimed British chef Fergus Henderson\, a leading figure in the renaissance of “nose-to-tail” eating as a response to over-industrialized meat production. There’ll also be two other seasonal dishes that are associated with Bonfire Night\, including Miff’s Spicy Pumpkin Soup\, a warming harvest potage\, and a Three-Ginger Parkin\, an old-fashioned type of dark\, oatmeal gingerbread.\n—– \nMiff’s Spicy Pumpkin Soup\nA puree of pumpkin\, carrots and potatoes\, spiced with coriander\, cumin\, cinnamon\, cloves and nutmeg\, garnished with yogurt & cilantro \nWoolton Pie\nA personal pot pie of cauliflower\, turnips\, carrots and potatoes in vegetable gravy thickened with oatmeal\, and a wholewheat crust\, served with beef or vegetarian brown gravy.  #vegan #GF option available with mashed potato crust. \nFergus Salad\nRed beets\, red cabbage\, red onions and capers dressed with balsamic vinegar and olive oil. Garnished with creme fraiche and tarragon. \nThree-Ginger Parkin\nAn old-fashioned\, dark gingerbread made with treacle and oatmeal\, with a candied ginger icing.\n$4  Add vanilla ice cream +$2\n—– \nDoors open at 6pm\, talk starts at 7pm\nincludes dinner and coffee or tea.\n$20 (+HST) \n—–\nTonya Surman is founding CEO of the Centre for Social Innovation\, co-creator of the Constellation Governance Model and the Community Bond\, and the leader behind the Catapult Microloan Fund. The Ashoka Foundation and the Trillium Foundation are among the many organizations that have recognized Tonya for her leadership and contributions. A vibrant speaker and a trusted advisor\, she is often tapped by civil society organizations and government for advisory and committee positions. \n—–\nLen Senater is the founder and proprietor of The Depanneur\, who happily cooks for his friends and neighbours. \n—–\nEvery month The Depanneur invites a local food personality to talk about something that interests them while Dep founder Len Senater cooks dinner for everyone. \nFind out more on Table Talks at The Depanneur\nhttp://staging.thedepanneur.ca/drop-in-dinners/table-talk/
URL:https://dev.thedepanneur.ca/event/table-talk-tonya-surman-the-revolution-starts-in-the-kitchen/2016-11-08/
LOCATION:1033 College Street\, Toronto\, Ontario\, m6k 2b5\, Canada
CATEGORIES:Table Talks
ATTACH;FMTTYPE=image/jpeg:https://dev.thedepanneur.ca/wp-content/uploads/2016/10/facebook_event_212028985877184.jpg
ORGANIZER;CN="The Depanneur":MAILTO:info@thedepanneur.ca
END:VEVENT
END:VCALENDAR