BEGIN:VCALENDAR
VERSION:2.0
PRODID:-//The Depanneur - ECPv6.8.1//NONSGML v1.0//EN
CALSCALE:GREGORIAN
METHOD:PUBLISH
X-ORIGINAL-URL:https://dev.thedepanneur.ca
X-WR-CALDESC:Events for The Depanneur
REFRESH-INTERVAL;VALUE=DURATION:PT1H
X-Robots-Tag:noindex
X-PUBLISHED-TTL:PT1H
BEGIN:VTIMEZONE
TZID:America/Halifax
BEGIN:DAYLIGHT
TZOFFSETFROM:-0400
TZOFFSETTO:-0300
TZNAME:ADT
DTSTART:20160313T060000
END:DAYLIGHT
BEGIN:STANDARD
TZOFFSETFROM:-0300
TZOFFSETTO:-0400
TZNAME:AST
DTSTART:20161106T050000
END:STANDARD
END:VTIMEZONE
BEGIN:VEVENT
DTSTART;TZID=America/Halifax:20160905T100000
DTEND;TZID=America/Halifax:20160905T170000
DTSTAMP:20260424T100008
CREATED:20160818T201531Z
LAST-MODIFIED:20160819T134208Z
UID:27735-1473069600-1473094800@dev.thedepanneur.ca
SUMMARY:WORKSHOP: Full-Day Breadmaking Intensive by Cara Benjamin-Pace
DESCRIPTION:LABOUR DAY Bread Making & Baking \nMaking bread from scratch maybe seem intimidating\, but it’s a labour of love that’s easy once you know how. Digging one’s hands and heart into a pile of yeasty dough is nourishment to the soul and connects us with one of the oldest and richest culinary traditions in history. \nJoin veteran baker Cara Benjamin-Pace on Labour Day for a chance to dig your hands into the joys of making a bread\, both in the kitchen and in the wood-fired bread oven in Dufferin Grove Park. This in-depth\, all-day workshop will cover a range of techniques for producing a variety of wholesome and delicious breads and rolls. \nOver the course of the day we will learn how to make: \nA super-easy\, no-knead Health Bread\, full of sesame\, sunflower and hemp seeds\, and fortified with flavourful\, high-protein amaranth and rye flours. Sweetened with a hint of molasses\, even kids love this bread! \nA traditional artisan whole wheat boule using Ontario Red Fife flour\, including some invaluable techniques to consistently turn out light\, well-rounded whole wheat loaves. \nThese loaves will be baked in the wood-fired Brick Oven in Dufferin Grove Park (weather permitting). \nWhile they bake you’ll enjoy a lovely picnic lunch of warm strata\, a type of Italian savoury bread pudding — a great use of “pain perdu” (lost bread) — with a fresh garden salad. As a special treat\, there’ll also be a chance to make traditional bannock\, cooked over an open fire\, eaten warm and slathered with jam. \nAfter lunch we will return to The Dep have fun making braided Challah bread —it’s beautiful\, impressive and easier than you think! We’ll end the day making yummy herb rolls and cinnamon rolls to take home; these rise in the fridge overnight and are ready to bake up in 20 minutes in the morning. Perfect to enjoy on the way to the first day of school or pop into a lunchbox. \nLots of discussion about the chemistry\, history and fascinating facts about bread will make this a fun-filled and rewarding last day of summer. \n$125 +HST \n—– \n—–\nEvery Monday\, The Depanneur invites TO’s best culinary talents to lead fun\, hands-on workshops.
URL:https://dev.thedepanneur.ca/event/workshop-full-day-breadmaking-intensive-by-cara-benjamin-pace/2016-09-05/
LOCATION:1033 College Street\, Toronto\, Ontario\, m6k 2b5\, Canada
CATEGORIES:Workshops
ATTACH;FMTTYPE=image/jpeg:https://dev.thedepanneur.ca/wp-content/uploads/2016/08/facebook_event_1743917695897213.jpg
ORGANIZER;CN="The Depanneur":MAILTO:info@thedepanneur.ca
END:VEVENT
END:VCALENDAR