BEGIN:VCALENDAR
VERSION:2.0
PRODID:-//The Depanneur - ECPv6.8.1//NONSGML v1.0//EN
CALSCALE:GREGORIAN
METHOD:PUBLISH
X-ORIGINAL-URL:https://dev.thedepanneur.ca
X-WR-CALDESC:Events for The Depanneur
REFRESH-INTERVAL;VALUE=DURATION:PT1H
X-Robots-Tag:noindex
X-PUBLISHED-TTL:PT1H
BEGIN:VTIMEZONE
TZID:America/New_York
BEGIN:DAYLIGHT
TZOFFSETFROM:-0500
TZOFFSETTO:-0400
TZNAME:EDT
DTSTART:20150308T070000
END:DAYLIGHT
BEGIN:STANDARD
TZOFFSETFROM:-0400
TZOFFSETTO:-0500
TZNAME:EST
DTSTART:20151101T060000
END:STANDARD
END:VTIMEZONE
BEGIN:VEVENT
DTSTART;TZID=America/New_York:20151207T183000
DTEND;TZID=America/New_York:20151207T203000
DTSTAMP:20260424T170613
CREATED:20151109T173442Z
LAST-MODIFIED:20151109T180808Z
UID:21674-1449513000-1449520200@dev.thedepanneur.ca
SUMMARY:WORKSHOP: Home-made Sauerkraut by Leor Israelski
DESCRIPTION:In this fun\, hand-on class\, you’ll be cutting\, mashing\, salting and stirring your way into a healthy and tangy naturally fermented cabbage sauerkraut as Leor Israelski guides you through the process of home fermentation. You’ll also learn about the many benefits of sauerkraut bacteria for your gut\, as well as how to supplement cabbage preserves with apples\, carrots\, beets\, burdock root\, ginger or garlic. \nEveryone will leave the class with a basic understanding safe canning practices and the important do’s and don’ts of fermenting\, along with copies of the recipes and jars of all the goodies made in class. You’ll go home with an understanding of the chemistry\, ingredients and steps necessary to make a killer kraut every time. \n$40+HST \n—–\nLeor Israelski began fermenting cabbage three years ago after some experimentation. He believes eating nutrient dense foods\, of which\, sauerkraut is a member is a great part of a healthy diet. \n—–\nEvery Monday\, The Depanneur invites TO’s best culinary talents to lead fun\, hands-on workshops. \nFind out more about Workshops at The Depanneur
URL:https://dev.thedepanneur.ca/event/workshop-home-made-sauerkraut-by-leor-israelski-2/2015-12-07/
LOCATION:1033 College Street\, Toronto\, Ontario\, m6k 2b5\, Canada
CATEGORIES:Workshops
ATTACH;FMTTYPE=image/jpeg:https://dev.thedepanneur.ca/wp-content/uploads/2015/11/facebook_event_1683538178548055.jpg
ORGANIZER;CN="The Depanneur":MAILTO:info@thedepanneur.ca
END:VEVENT
END:VCALENDAR