BEGIN:VCALENDAR
VERSION:2.0
PRODID:-//The Depanneur - ECPv6.8.1//NONSGML v1.0//EN
CALSCALE:GREGORIAN
METHOD:PUBLISH
X-ORIGINAL-URL:https://dev.thedepanneur.ca
X-WR-CALDESC:Events for The Depanneur
REFRESH-INTERVAL;VALUE=DURATION:PT1H
X-Robots-Tag:noindex
X-PUBLISHED-TTL:PT1H
BEGIN:VTIMEZONE
TZID:America/New_York
BEGIN:DAYLIGHT
TZOFFSETFROM:-0500
TZOFFSETTO:-0400
TZNAME:EDT
DTSTART:20170312T070000
END:DAYLIGHT
BEGIN:STANDARD
TZOFFSETFROM:-0400
TZOFFSETTO:-0500
TZNAME:EST
DTSTART:20171105T060000
END:STANDARD
END:VTIMEZONE
BEGIN:VEVENT
DTSTART;TZID=America/New_York:20170124T183000
DTEND;TZID=America/New_York:20170124T213000
DTSTAMP:20260425T230023
CREATED:20170116T181621Z
LAST-MODIFIED:20170116T182039Z
UID:31608-1485282600-1485293400@dev.thedepanneur.ca
SUMMARY:WORKSHOP: Intro to Clean Eating 2 by Sandra Bruton
DESCRIPTION:**SECOND NIGHT ADDED!** \nStart the year off right – join Chef and Culinary Nutritionist Sandra Bruton for a fun\, hands-on introduction to clean\, whole-food eating. \nWith the help of a few guiding principles\, eating a healthy\, well-balanced diet can be easy\, delicious and practical. Sandra will share tips\, techniques and insights that will help you move towards a more vegetable-centric diet that is satisfying and nourishing. Equal parts Culinary Arts and Holistic Nutrition\, these recipes are quick\, easy and tasty\, and are high in fibre\, lean protein\, good quality fats\, and complex carbohydrates without relying on adding sugar\, excess salt or processed ingredients. \nCreamy without Dairy — Vegan Cream of Broccoli Soup\nLearn how to use coconut milk and nutritional yeast to make rich\, delicious savoury dishes without lactose or dairy fats. \nHearty without Gluten — Spaghetti Squash Chow Mein\nLearn how to use versatile spaghetti squash to create gluten-free noodle dishes that are high in fibre and protein. \nSweet without Sugar — Red Velvet Beet Coconut Protein Bars\nBeets and dark chocolate create delicious\, crunchy high-protein energy bars with complex carbohydrates for lasting energy and no sugar crash. \n$50 +HST \n—–\nSandra Bruton’s goal is simple: to teach people just how simple\, healthy cooking can be. She believes that with whole\, natural\, good quality ingredients\, and a dash of inspiration you can cook your way to a happy healthy life. A certified Culinary Nutritionist\, Sandra specializes in allergen free and sugar free cooking\, but pulls inspiration from all over the world\, infusing her menus with international flavours. Sandra started her own business\, Sure Chef\, 7 years ago and has been cooking\, teaching and consulting up a storm ever since.\nhttp://www.surechef.com/ \n—–\nEvery Monday\, The Depanneur invites TO’s best culinary talents to lead fun\, hands-on workshops.
URL:https://dev.thedepanneur.ca/event/workshop-intro-to-clean-eating-by-sandra-bruton-2/2017-01-24/
LOCATION:1033 College Street\, Toronto\, Ontario\, m6k 2b5\, Canada
CATEGORIES:Workshops
ATTACH;FMTTYPE=image/jpeg:https://dev.thedepanneur.ca/wp-content/uploads/2017/01/facebook_event_346690682381980.jpg
ORGANIZER;CN="The Depanneur":MAILTO:info@thedepanneur.ca
END:VEVENT
END:VCALENDAR