BEGIN:VCALENDAR
VERSION:2.0
PRODID:-//The Depanneur - ECPv6.8.1//NONSGML v1.0//EN
CALSCALE:GREGORIAN
METHOD:PUBLISH
X-ORIGINAL-URL:https://dev.thedepanneur.ca
X-WR-CALDESC:Events for The Depanneur
REFRESH-INTERVAL;VALUE=DURATION:PT1H
X-Robots-Tag:noindex
X-PUBLISHED-TTL:PT1H
BEGIN:VTIMEZONE
TZID:America/Halifax
BEGIN:DAYLIGHT
TZOFFSETFROM:-0400
TZOFFSETTO:-0300
TZNAME:ADT
DTSTART:20160313T060000
END:DAYLIGHT
BEGIN:STANDARD
TZOFFSETFROM:-0300
TZOFFSETTO:-0400
TZNAME:AST
DTSTART:20161106T050000
END:STANDARD
END:VTIMEZONE
BEGIN:VEVENT
DTSTART;TZID=America/Halifax:20160523T100000
DTEND;TZID=America/Halifax:20160523T170000
DTSTAMP:20260424T222821
CREATED:20160419T000357Z
LAST-MODIFIED:20160419T004127Z
UID:24504-1463997600-1464022800@dev.thedepanneur.ca
SUMMARY:WORKSHOP: Meat Camp! Whole Animal Butchery by Chef Michael Kirkwood
DESCRIPTION:Special Full-Day Workshop (10am-5pm).\nIncludes meals and snacks throughout the day. \nThis Victoria Day\, join veteran professional Chef Michael Kirkwood for an in-depth introduction to whole-animal butchery. This hands-on\, day-long workshop will cover the techniques and cuts for three primary types of animal encountered in the kitchen: quadrupeds\, fish and fowl. You’ll be breaking down a whole young hog (the basic techniques also apply to lamb\, goat and beef)\, whole chickens\, and whole individual trouts. \nBreaking down a whole animal is not only more cost-effective than buying pre-cut parts\, but it give you much more control over the resulting cuts\, allowing you to optimize them for specific dishes. The class will also include the preparation\, sharing and tasting of several recipes: \nPORK: a roasted rack\, and an apple & sage stuffed saddle; there will also be a demo of how to cure pork belly to make bacon. \nTROUT: pan-seared fillets from one side\, a gravlax-style maple cure for the other\, and some trout tartar with the belly and other offcuts. \nCHICKEN: pan-seared breast supremes\, deboned and stuffed chicken legs\, and a basic chicken stock. \nAny leftover cuts will be divvied up amongst the participants to take home. \n$125 +HST \n—–\nChef Michael Kirkwood has honed his culinary skills in some of Toronto’s finest restaurants including Avalon\, Toro\, Opus\, and Turf Lounge. Known for his “Canadian Contemporary” style\, he’s committed to a quality food experience without compromising on using fresh\, local and artisan style ingredients to create a clever fusion of flavors in his cooking. Now\, as creator and founder of The Birchwood Kitchen — a mobile culinary studio providing cooking classes for children and adults — he enjoys catering small events and seasonal tastings. \n—–\nEvery Monday\, The Depanneur invites TO’s best culinary talents to lead fun\, hands-on workshops.
URL:https://dev.thedepanneur.ca/event/workshop-meat-camp-whole-animal-butchery-by-chef-michael-kirkwood/2016-05-23/
LOCATION:1033 College Street\, Toronto\, Ontario\, m6k 2b5\, Canada
CATEGORIES:Workshops
ATTACH;FMTTYPE=image/jpeg:https://dev.thedepanneur.ca/wp-content/uploads/2016/04/facebook_event_1727577550822017.jpg
ORGANIZER;CN="The Depanneur":MAILTO:info@thedepanneur.ca
END:VEVENT
END:VCALENDAR