BEGIN:VCALENDAR
VERSION:2.0
PRODID:-//The Depanneur - ECPv6.8.1//NONSGML v1.0//EN
CALSCALE:GREGORIAN
METHOD:PUBLISH
X-WR-CALNAME:The Depanneur
X-ORIGINAL-URL:https://dev.thedepanneur.ca
X-WR-CALDESC:Events for The Depanneur
REFRESH-INTERVAL;VALUE=DURATION:PT1H
X-Robots-Tag:noindex
X-PUBLISHED-TTL:PT1H
BEGIN:VTIMEZONE
TZID:America/New_York
BEGIN:DAYLIGHT
TZOFFSETFROM:-0500
TZOFFSETTO:-0400
TZNAME:EDT
DTSTART:20170312T070000
END:DAYLIGHT
BEGIN:STANDARD
TZOFFSETFROM:-0400
TZOFFSETTO:-0500
TZNAME:EST
DTSTART:20171105T060000
END:STANDARD
END:VTIMEZONE
BEGIN:VEVENT
DTSTART;TZID=America/New_York:20170206T183000
DTEND;TZID=America/New_York:20170206T210000
DTSTAMP:20260424T111309
CREATED:20161230T195022Z
LAST-MODIFIED:20170116T231040Z
UID:31448-1486405800-1486414800@dev.thedepanneur.ca
SUMMARY:WORKSHOP: French Pastry Decorating Techniques by Justine Lam
DESCRIPTION:There’s a lot more to cake decorating than just frosting! \nThe French have long elevated the decoration of their exquisite pastries to a fine art. Join talented baker Justine Lam for a fast-track introduction to tricks and techniques that will help you create dazzling desserts. Justine will walk you through the process of creating an elegant mousse bombe\, and along the way you’ll discover many of the tips and secrets to creating spectacular French patisserie. \nYou’ll start by learning how to make a luxuriously rich-yet-light passionfruit and mango mousse\, and how to top it with beautiful\, glossy dark chocolate ganache. Participants will also learn how to make delicate\, almond-scented Joconde pastry for elegant results\, as well as a variety of sophisticated chocolate decorating techniques. \nEach participant will get their own passionfruit mousse cake to prepare\, decorate\, and take home (if you can resist eating it on the spot!).\n—– \n$50 +HST \n—–\nJustine Lam is a self-taught pastry chef who discovered the art of French pastry while living in Paris\, developing a repertoire of patisserie specialties including croissants\, chocolate bread\, brioche\, and more. After her stint in Paris\, Justine came to Toronto and graduated from George Brown’s Baking and Pastry Arts program. In addition to being an avid home baker\, Justine also caters desserts for personal and corporate events in Toronto through her company\, Quintessence Cakes & Pastries. \n—-\nEvery Monday\, The Depanneur invites TO’s best culinary talents to lead fun\, hands-on workshops.
URL:https://dev.thedepanneur.ca/event/workshop-mousse-and-chocolate-decoration-skills-by-justine-lam/2017-02-06/
LOCATION:1033 College Street\, Toronto\, Ontario\, m6k 2b5\, Canada
CATEGORIES:Workshops
ATTACH;FMTTYPE=image/jpeg:https://dev.thedepanneur.ca/wp-content/uploads/2016/12/facebook_event_201634813574398.jpg
ORGANIZER;CN="The Depanneur":MAILTO:info@thedepanneur.ca
END:VEVENT
END:VCALENDAR