BEGIN:VCALENDAR
VERSION:2.0
PRODID:-//The Depanneur - ECPv6.8.1//NONSGML v1.0//EN
CALSCALE:GREGORIAN
METHOD:PUBLISH
X-WR-CALNAME:The Depanneur
X-ORIGINAL-URL:https://dev.thedepanneur.ca
X-WR-CALDESC:Events for The Depanneur
REFRESH-INTERVAL;VALUE=DURATION:PT1H
X-Robots-Tag:noindex
X-PUBLISHED-TTL:PT1H
BEGIN:VTIMEZONE
TZID:America/Toronto
BEGIN:DAYLIGHT
TZOFFSETFROM:-0500
TZOFFSETTO:-0400
TZNAME:EDT
DTSTART:20250309T070000
END:DAYLIGHT
BEGIN:STANDARD
TZOFFSETFROM:-0400
TZOFFSETTO:-0500
TZNAME:EST
DTSTART:20251102T060000
END:STANDARD
END:VTIMEZONE
BEGIN:VEVENT
DTSTART;TZID=America/Toronto:20251121T183000
DTEND;TZID=America/Toronto:20251121T210000
DTSTAMP:20260419T232406
CREATED:20250718T151525Z
LAST-MODIFIED:20250725T000530Z
UID:145360-1763749800-1763758800@dev.thedepanneur.ca
SUMMARY:COOKING CLASS: Intro to Whole Animal Butchery by Chef Taylor Parker
DESCRIPTION:Breaking down a whole animal is not only more cost-effective than buying pre-cut parts\, but it give you much more control over the resulting cuts\, allowing you to optimize them for specific dishes. Join Chef Taylor Parker for an in-depth introduction to whole-animal butchery. This hands-on\, day-long workshop will cover the techniques and cuts for three primary types of animal encountered in the kitchen: quadrupeds\, fish and fowl. \nWe’ll start with an introduction to butchering whole chicken. Everyone will get hands-on experience learning how break down a chicken into its component parts\, and there will be a demonstration of some more advanced techniques like deboning\, Frenched breasts\, and wing lollipops. We’ll follow up with a fish butchery demonstration with an opportunity for everyone to learn how to fillet and debone a whole fish. We’ll prepare some snacks from the freshly butchered chicken & fish to enjoy in class \nNext up is learning how to break down a whole quadruped (most likely a whole\, small pig\, depending on availability; the same techniques apply to all). You’ll learn all the main primal and sub-primal cuts\, as well as some more specific types of cuts. There will be demo and discussion of the best applications of different cuts\, from steaks and roasts to ground meat and sausage\, as well as more advanced techniques like removing silver skin\, Frenching ribs\, and preparing scallopini. \nAll participants will take home generous\, vacuum-sealed portions of the meats they prepared in class\, along with notes and recipes.\n—–\n \nTaylor Parker is of the Mohawk Nation\, Bear Clan\, from Six Nations of the Grand River. \nTaylor is a proud father\, chef\, forager\, gardener\, and friend. His extensive knowledge of native North American plants brings rarely seen ingredients and flavours to his dishes\, with the philosophy that food is a conduit to connect people back to the land. Taylor is passionate about bringing like-minded Chefs together to share\, educate\, and collaborate on unique dishes that seek to define modern First Nations North American Cuisine. He also heads up The Depanneur’s monthly  Indigenous Food Lab dinner.. \nTaylor has spent much of his professional life working in a diverse range of kitchens and catering. He currently runs MT Hospitality focused on unique hunt\, fished and foraged First Nations inspired events and dinners\, and is also the co-owner of For4ged Candle Company in Brantford\, Ontario. @turok_parker \n—–\nEvery week\, The Depanneur invites TO’s best culinary talents to lead fun\, hands-on workshops. @thedepanneur
URL:https://dev.thedepanneur.ca/event/cooking-class-intro-to-whole-animal-butchery-by-chef-taylor-parker-2/
LOCATION:CSI Spadina\, 192 Spadina Ave.\, Suite 501\, Toronto\, Ontario\, M5T 2C2\, Canada
CATEGORIES:Workshops
ATTACH;FMTTYPE=image/webp:https://dev.thedepanneur.ca/wp-content/uploads/2025/06/local_parts_mural_3.jpg.webp
ORGANIZER;CN="The Depanneur":MAILTO:info@thedepanneur.ca
END:VEVENT
END:VCALENDAR