BEGIN:VCALENDAR
VERSION:2.0
PRODID:-//The Depanneur - ECPv6.8.1//NONSGML v1.0//EN
CALSCALE:GREGORIAN
METHOD:PUBLISH
X-ORIGINAL-URL:https://dev.thedepanneur.ca
X-WR-CALDESC:Events for The Depanneur
REFRESH-INTERVAL;VALUE=DURATION:PT1H
X-Robots-Tag:noindex
X-PUBLISHED-TTL:PT1H
BEGIN:VTIMEZONE
TZID:America/Toronto
BEGIN:DAYLIGHT
TZOFFSETFROM:-0500
TZOFFSETTO:-0400
TZNAME:EDT
DTSTART:20250309T070000
END:DAYLIGHT
BEGIN:STANDARD
TZOFFSETFROM:-0400
TZOFFSETTO:-0500
TZNAME:EST
DTSTART:20251102T060000
END:STANDARD
END:VTIMEZONE
BEGIN:VEVENT
DTSTART;TZID=America/Toronto:20251005T120000
DTEND;TZID=America/Toronto:20251005T180000
DTSTAMP:20260424T045437
CREATED:20250707T150321Z
LAST-MODIFIED:20250707T192710Z
UID:145184-1759665600-1759687200@dev.thedepanneur.ca
SUMMARY:COOKING CLASS: Full-Day Breadmaking Intensive by Leo Baduria
DESCRIPTION:This workshop takes place at Café ZuZu\, 555 Dundas St. E.\nOne of The Depanneur’s most popular workshops!\nJoin artisanal baker Leo Baduria for a full-day\, in-depth exploration of the fundamentals of great bread. You’ll learn how to make your own sourdough starter\, and how to prepare different types of dough\, using various grains and flours. There will be hands-on practice of the techniques to folding\, kneading and shaping dough to make focaccia\, fougasse\, baguettes\, boules\, batards and brioches\, including challah braids. \nThe morning focuses on dough-making; first for the focaccia and pizza\, followed by the dough for baguettes\, boules and batards using different types of flour. This is then followed by making the brioche dough\, which takes longer to rise. \nThe afternoon focuses on the shaping and baking of the various breads\, starting with the focaccia and pizza dough. By mid-afternoon the baguette\, boules and batards will be ready to shape. While they are baking\, the brioche dough will be ready for shaping into various types\, such as challah\, loaf\, brioche buns. \nThroughout the day there will be oven-fresh bread to snack on with cheese\, fruits\, and some charcuterie — please feel free to bring any topping you’d like to share! \n—–\nLeo Baduria‘s introduction to fine breads started in Montreal where he lived from 1977 to 1988. This beautiful city boasts a large number of fine boulangeries in just about every quartier where one can find a superb baguette for dinner or croissant for breakfast. This growing fascination with French breads led him to try baking his own baguettes via several books on French baking. Over time\, Leo assisted several bakers in Montreal\, France and Italy – learning techniques that he would incorporate in his own baking – and has since given several sold out bread workshops to bread lovers who wanted to learn the artisanal way of making bread. Leo’s approach to baking is one that respects the soul of the living yeasts\, the quality of grains used to make the flour and the enjoyment of the whole baking process from start to finish.\n@mywindowtotheworld \n\n—–\nEvery week\, The Depanneur invites TO’s best culinary talents to lead fun\, hands-on workshops.\n@thedepanneur
URL:https://dev.thedepanneur.ca/event/cooking-class-full-day-breadmaking-intensive-by-leo-baduria-14/
LOCATION:Café ZuZu\, 555 Dundas Street East\, Toronto\, Ontario\, M5A 2B7\, Canada
CATEGORIES:Workshops
ATTACH;FMTTYPE=image/jpeg:https://dev.thedepanneur.ca/wp-content/uploads/2024/01/bread_page_banner.jpg
ORGANIZER;CN="The Depanneur":MAILTO:info@thedepanneur.ca
GEO:43.6599328;-79.3622303
X-APPLE-STRUCTURED-LOCATION;VALUE=URI;X-ADDRESS=Café ZuZu 555 Dundas Street East Toronto Ontario M5A 2B7 Canada;X-APPLE-RADIUS=500;X-TITLE=555 Dundas Street East:geo:-79.3622303,43.6599328
END:VEVENT
BEGIN:VEVENT
DTSTART;TZID=America/Toronto:20251011T183000
DTEND;TZID=America/Toronto:20251011T210000
DTSTAMP:20260424T045437
CREATED:20250718T150347Z
LAST-MODIFIED:20250718T150347Z
UID:145355-1760207400-1760216400@dev.thedepanneur.ca
SUMMARY:SUPPER CLUB: Indigenous Food Lab by Chef Taylor Parker
DESCRIPTION:Toronto is part of the Dish With One Spoon Covenant. In its very language\, it reminds us that by eating together\, we are connected.  \nThe Depanneur is proud to host the Indigenous Food Lab\, a new monthly residency with Chef Taylor Parker\, the man behind The Dep’s acclaimed and subversive Canada Day Supper Clubs.  It is designed as space to consider the possibilities of an elevated\, communal dining experience rooted in First Nations traditions. It is a laboratory to explore and experiment with a Canadian concept of terroir – the flavour of a place — to rediscover and redefine what Indigenous food means today. \nChef Taylor’s sophisticated tasting menus celebrate local and foraged ingredients\, and a deep connection to First Nations foodways\, to our land and our shared heritage. Each meal showcases a range of wild ingredients native to Ontario. Weather\, timing\, season\, and the caprice of Mother Nature will determine exactly what will be shared with us. Whatever comes to the table\, you can be assured that it will be crafted with remarkable skill and creativity of a veteran fine-dining chef. \n\nRead the profile of Chef Taylor from The Depanneur Cookbook\n  \nWe live in the largest city in Canada\, one of the most ethnically and culinarily diverse cities in the world. One can find almost any dish from almost any cuisine\, with one glaring\, egregious exception: the country we actually live in. Indigenous food is criminally underrepresented in Toronto’s food scene\, without a single Indigenous-owned restaurant for people to patronize. More than ever before\, Canada needs to embrace and celebrate its indigenous culinary heritage\, and I believe the long path towards reconciliation can and should start at the table. \nWhy no menu?\n—–\nTaylor Parker is of the Mohawk Nation\, Bear Clan\, from Six Nations of the Grand River. \nTaylor is a proud father\, chef\, forager\, gardener\, and friend. His extensive knowledge of native North American plants brings rarely seen ingredients and flavours to his dishes\, with the philosophy that food is a conduit to connect people back to the land. Taylor is passionate about bringing like-minded Chefs together to share\, educate\, and collaborate on unique dishes that seek to define modern First Nations North American Cuisine. Taylor is proud to work alongside fellow cooks and friends Phil Magtulis and Matthew Kleinsteuber at The Depanneur dinner series. \nTaylor has spent much of his professional life working in a diverse range of kitchens and catering. He currently runs MT Hospitality focused on unique hunt\, fished and foraged First Nations inspired events and dinners\, and is also the co-owner of For4ged Candle Company in Brantford\, Ontario. @turok_parker \n—–\nEvery weekend The Depanneur invites an amateur or professional guest chef to host a fun\, informal dinner party. @thedepanneur
URL:https://dev.thedepanneur.ca/event/supper-club-indigenous-food-lab-by-chef-taylor-parker-4/
LOCATION:CSI Spadina\, 192 Spadina Ave.\, Suite 501\, Toronto\, Ontario\, M5T 2C2\, Canada
CATEGORIES:Supper Clubs
ATTACH;FMTTYPE=image/jpeg:https://dev.thedepanneur.ca/wp-content/uploads/2025/04/indig.jpg
ORGANIZER;CN="The Depanneur":MAILTO:info@thedepanneur.ca
END:VEVENT
END:VCALENDAR