BEGIN:VCALENDAR
VERSION:2.0
PRODID:-//The Depanneur - ECPv6.8.1//NONSGML v1.0//EN
CALSCALE:GREGORIAN
METHOD:PUBLISH
X-WR-CALNAME:The Depanneur
X-ORIGINAL-URL:https://dev.thedepanneur.ca
X-WR-CALDESC:Events for The Depanneur
REFRESH-INTERVAL;VALUE=DURATION:PT1H
X-Robots-Tag:noindex
X-PUBLISHED-TTL:PT1H
BEGIN:VTIMEZONE
TZID:America/Toronto
BEGIN:DAYLIGHT
TZOFFSETFROM:-0500
TZOFFSETTO:-0400
TZNAME:EDT
DTSTART:20180311T070000
END:DAYLIGHT
BEGIN:STANDARD
TZOFFSETFROM:-0400
TZOFFSETTO:-0500
TZNAME:EST
DTSTART:20181104T060000
END:STANDARD
END:VTIMEZONE
BEGIN:VEVENT
DTSTART;TZID=America/Toronto:20181014T183000
DTEND;TZID=America/Toronto:20181014T210000
DTSTAMP:20260425T225958
CREATED:20180910T200350Z
LAST-MODIFIED:20181008T212958Z
UID:58940-1539541800-1539550800@dev.thedepanneur.ca
SUMMARY:WORKSHOP: Polish Pierogies by Maria Rozynska
DESCRIPTION:SOLD OUT – 3rd Night Added TUE Oct 16\nEvery culture has their comfort-food dumplings\, and warm\, hearty Polish pierogies are right up there with the best of them. In this fun\, hands-on workshop\, Maria Rozynska leads you through the process of kneading & rolling\, filling & shaping\, and boiling & frying homemade pierogies from scratch. \nYou’ll start the class with a warm borscht broth\, then dive into learning how to make several fillings including: classic dry cottage cheese & potato\, savoury sauerkraut\, mushroom and onion\, as well as delicious dessert pierogies with a sweet fruit filling. There will also be a short presentation on Polish cuisine\, and maybe even a traditional folk song or two! You’ll get a chance to try all the pierogies in class with a sour cream and warm caramelized onion topping\, and extras can be taken home and frozen (if you can resist eating them on the way home). \n$60 + HST \n——\nA self-taught cook\, Maria Rozynska grew up in a Polish household observing her mother\, grandmother and great grandmother knead\, roll\, shape\, mallet and whisk consistently yummy Polish cuisine picking up generations of knowledge. They were recipes traditions worth talking about and ones Maria wanted to spread. What started as a passion turned into a business. Through her cooking school Just Be Cooking\, Maria now teaches others how to make their own traditional Polish food while singing songs from the Polish Highlands in order to keep alive her families recipes and traditions. A communal meal follows each of her workshops where guests can eat their creations while songs are sung and stories shared 🙂\n—– \nEvery week\, The Depanneur invites TO’s best culinary talents to lead fun\, hands-on workshops. \nLearn more about Workshops at The Depanneur
URL:https://dev.thedepanneur.ca/event/workshop-polish-pierogies-by-maria-rozynska-12/
LOCATION:1033 College Street\, Toronto\, Ontario\, m6k 2b5\, Canada
CATEGORIES:Workshops
ATTACH;FMTTYPE=image/jpeg:https://dev.thedepanneur.ca/wp-content/uploads/2018/04/facebook_event_364120774085085.jpg
ORGANIZER;CN="The Depanneur":MAILTO:info@thedepanneur.ca
END:VEVENT
END:VCALENDAR