BEGIN:VCALENDAR
VERSION:2.0
PRODID:-//The Depanneur - ECPv6.8.1//NONSGML v1.0//EN
CALSCALE:GREGORIAN
METHOD:PUBLISH
X-WR-CALNAME:The Depanneur
X-ORIGINAL-URL:https://dev.thedepanneur.ca
X-WR-CALDESC:Events for The Depanneur
REFRESH-INTERVAL;VALUE=DURATION:PT1H
X-Robots-Tag:noindex
X-PUBLISHED-TTL:PT1H
BEGIN:VTIMEZONE
TZID:America/Halifax
BEGIN:DAYLIGHT
TZOFFSETFROM:-0400
TZOFFSETTO:-0300
TZNAME:ADT
DTSTART:20180311T060000
END:DAYLIGHT
BEGIN:STANDARD
TZOFFSETFROM:-0300
TZOFFSETTO:-0400
TZNAME:AST
DTSTART:20181104T050000
END:STANDARD
TZID:America/New_York
BEGIN:DAYLIGHT
TZOFFSETFROM:-0500
TZOFFSETTO:-0400
TZNAME:EDT
DTSTART:20180311T070000
END:DAYLIGHT
BEGIN:STANDARD
TZOFFSETFROM:-0400
TZOFFSETTO:-0500
TZNAME:EST
DTSTART:20181104T060000
END:STANDARD
END:VTIMEZONE
BEGIN:VEVENT
DTSTART;TZID=America/Halifax:20180406T190000
DTEND;TZID=America/Halifax:20180406T220000
DTSTAMP:20260419T195625
CREATED:20180317T212627Z
LAST-MODIFIED:20180317T220201Z
UID:51967-1523041200-1523052000@dev.thedepanneur.ca
SUMMARY:Nurture x Papirmass Harvest Table Dinner
DESCRIPTION:Each month\, Nurture offers a collaborative intimate dining experience that is part community incubator\, part supper club\, part creative discourse on the subject of self care – all delicious\, organic\, and served family-style. \nIncludes:\n– Welcome cocktail\n– Three course dinner inspired by the spirit and creative aesthetic of Papirmass\n– Creative presentation by Kirsten McCrea & JP King\, showcasing the ups and downs of their creative journey building Papirmass.\n– Community and connection with people up to amazing creative things. \n**Allergies and food sensitivities wholeheartedly embraced with advance notice.** \nABOUT Papirmass \nPapirmass is an independent art subscription that seeks to spark curiosity and inspire creativity. Subscribers all around the world love how our monthly mailings help them discover their next favorite artist. Through unique prints\, studio interviews\, and hands-on artistic activities\, Papirmass is all about making creative connections. Founded in 2008\, Papirmass is run by husband-and-wife team Jp King and Kirsten McCrea in collaboration with a handful of wildly creative people in Toronto. http://www.papirmass.com \nKirsten McCrea splits her time between co-directing Papirmass and her own career as a multi-disciplinary artist\, mural painter\, and illustrator. With an eye for bright colours\, bold patterns\, and the forms of nature\, her work in-studio and on the streets has been widely recognized and supported. Named one of the Top 30-Under-30 artists in Canada by Blouin Artinfo\, her work has exhibited in Toronto’s AGO\, Montreal’s Musée des Beaux Arts\, and the Shanghai International Arts Festival\, and has appeared in numerous publications\, including The Globe and Mail\, Canadian Art\, and BUST Magazine. http://www.hellokirsten.com \nJP King splits his time between co-directing Papirmass and his own career as an interdisciplinary artist\, designer\, and writer. Having recently completed an MFA at OCAD U\, he currently teaches on the subjects of material culture and creative methodologies\, and experiments with Risograph printing as Paper Pusher. His work has been generously supported by SSHRC\, the Canada Council\, and the Banff Centre for the Arts amongst others. His illustration clients include: Fast Company\, Penguin Books\, Oxford University Press\, and New Scientist Magazine. http://www.jpking.ca \nEvent photo by Lauren Kolyn. \nBOOK NOW
URL:https://dev.thedepanneur.ca/event/nurture-x-papirmass-harvest-table-dinner/
LOCATION:1033 College Street\, Toronto\, m6k 2b5\, Canada
CATEGORIES:Pop Up
ATTACH;FMTTYPE=image/jpeg:https://dev.thedepanneur.ca/wp-content/uploads/2018/03/facebook_event_239265583312582.jpg
END:VEVENT
BEGIN:VEVENT
DTSTART;TZID=America/New_York:20180309T190000
DTEND;TZID=America/New_York:20180309T220000
DTSTAMP:20260419T195625
CREATED:20180212T235752Z
LAST-MODIFIED:20180213T001340Z
UID:50543-1520622000-1520632800@dev.thedepanneur.ca
SUMMARY:Nurture x Souvenir Harvest Table Dinner
DESCRIPTION:Each month\, Nurture offers a collaborative intimate dining experience that is part community incubator\, part supper club\, part creative discourse on the subject of self care – all delicious\, organic\, and served family-style. \nIncludes:\n• Welcome cocktail\n• Three course dinner inspired by the spirit and creative aesthetic of SOUVENIR Studios\n• Creative presentation by Danielle Suppa\, showcasing the ups and downs of her creative journey building SOUVENIR Studios.\n• Community and connection with people up to amazing creative things. \n**Allergies and food sensitivities wholeheartedly embraced with advance notice.** \nBOOK NOW\nEvent cover photo by Sara Monika\, Photographer \n—– \nABOUT SOUVENIR Studios \nSOUVENIR is a home for emerging designers\, makers and artists; showcasing their talents in a collective\, gallery-inspired setting. \nThe focus of SOUVENIR is to create a collaborative and dynamic space\, offering a new and evolving vision of contemporary design. Beyond simply selling goods\, our true purpose is to foster meaningful connections between our designers\, our customers\, our space and our products. We curate and believe in a range of design that is modern\, innovative\, accessible\, beautifully executed\, and above all – purposefully and lovingly made. \nBesides highlighting individual talents\, the shop promotes collaboration\, encouraging artists and makers to push their own boundaries to create exclusive\, limited run products for our shop. SOUVENIR is also a space for the community to gather\, engage and discover. We hope to blur the lines between art and design\, to bridge the gap between gallery and retail and to create memorable\, evolving and engaging experiences for designers and customers alike. \n—– \nAbout Nurture \nA lot of creative people and entrepreneurs tend to work in isolation – I love the magic; the solidarity; the collaborative cross-pollination that happens when we join together in community over a shared family-style meal. The connections remain and often blossom into collaborations or supportive community outside of the event. Providing a safe and inspiring space to have the kinds of conversations about what it’s REALLY like to be a leader/entrepreneur/creative\, underneath the masks\, is so important.
URL:https://dev.thedepanneur.ca/event/nurture-x-souvenir-harvest-table-dinner/
LOCATION:1033 College Street\, Toronto\, m6k 2b5\, Canada
CATEGORIES:Pop Up
ATTACH;FMTTYPE=image/jpeg:https://dev.thedepanneur.ca/wp-content/uploads/2018/02/facebook_event_124576671604421.jpg
END:VEVENT
BEGIN:VEVENT
DTSTART;TZID=America/New_York:20180202T190000
DTEND;TZID=America/New_York:20180202T220000
DTSTAMP:20260419T195625
CREATED:20180122T232211Z
LAST-MODIFIED:20180123T003357Z
UID:49439-1517598000-1517608800@dev.thedepanneur.ca
SUMMARY:Nurture x Tania Love Harvest Table Dinner
DESCRIPTION:Each month\, Nurture offers a collaborative intimate dining experience that is part community incubator\, part supper club\, part creative discourse on the subject of self care – all delicious\, organic\, and served family-style. \nIncludes: \n– Welcome cocktail\n– Three course dinner inspired by the work and creative spirit of artist Tania Love\n– Creative presentation by Tania Love\, showcasing the ups and downs of her creative journey\n– Community and connection with people up to amazing creative things. \n**Allergies and food sensitivities wholeheartedly embraced with advance notice.** \nEvent cover photo by Lauren Kolyn. \nMenu\, more info & tickets available here
URL:https://dev.thedepanneur.ca/event/nurture-x-tania-love-harvest-table-dinner/
LOCATION:The Depanneur\, 1033 College Street\, Toronto\, ON\, M6H 1A8\, Canada
CATEGORIES:Pop Up
ATTACH;FMTTYPE=image/jpeg:https://dev.thedepanneur.ca/wp-content/uploads/2018/01/facebook_event_180430979372493.jpg
GEO:43.6527741;-79.4293691
X-APPLE-STRUCTURED-LOCATION;VALUE=URI;X-ADDRESS=The Depanneur 1033 College Street Toronto ON M6H 1A8 Canada;X-APPLE-RADIUS=500;X-TITLE=1033 College Street:geo:-79.4293691,43.6527741
END:VEVENT
BEGIN:VEVENT
DTSTART;TZID=America/New_York:20180107T190000
DTEND;TZID=America/New_York:20180107T220000
DTSTAMP:20260419T195625
CREATED:20171220T135840Z
LAST-MODIFIED:20171220T140415Z
UID:48336-1515351600-1515362400@dev.thedepanneur.ca
SUMMARY:Nurture x Artery Harvest Table Dinner
DESCRIPTION:You’re feeling isolated and in need of a community who understands the particular ups and downs of being an entrepreneur\, leader or creative artist. \nYou want to find kindred creatives to learn from\, collaborate with and be inspired by. Since the most fruitful and sincere connections are often built around the dinner table\, we have cooked up a space for you to show up and be fed both in spirit and in body. \nEach month\, Nurture offers a collaborative intimate dining experience that is part community incubator\, part supper club\, part creative discourse on the subject of self care – all delicious\, organic\, and served family-style. \nIncludes:\nWelcome cocktail\nThree course dinner inspired by the spirit of Artery\nCreative presentation by Artery Co-founder\, Salimah Ebrahim\, and special musical guests.\nCommunity and connection with people up to amazing creative things. \n**Allergies and food sensitivities wholeheartedly embraced with advance notice.** \nWhat to expect\nThis showcase will be a collaborative and creative interpretation of the spirit of Artery itself\, through food\, discussion and a surprise guest musical performance. \nI got really intentional when designing what I want the Nurture Harvest Table Dinners to be (creatives up to cool things around beautiful tables laden with delicious food and inspiring real talk). \nI also love an idea I read recently (attributed to Steve Jobs) that creating something tasteful and resonant is actually about ‘saying no to 1000 things.’ \nSo\, for these dinners\, here’s a few things I am saying no to\, to make room for what truly connects:\n– No to guests practicing elevator pitches. Yes to practicing eye contact.\n– No to networking. Yes to connecting and getting inspired to collaborate.\n– No to passing out business cards. Yes to passing the butter.\n– No to pretending everything looks as good as it does on this night (and it looks stunning). Yes to being honest about the work\, personal development and bravery in the face of the uncomfortable that goes into our creative projects. \nIf these NOs make you say “heck\, YES. Finally. An evening where I don’t have to hide behind a veneer of having it all together\, but get to show up as myself and gather with others who are also invested in the same.”\, these dinners are for you. \nWhy is this happening?\nA lot of creative people and entrepreneurs tend to work in isolation – I love the magic; the solidarity; the collaborative cross-pollination that happens when we join together in community over a shared family-style meal. The connections remain and often blossom into collaborations or supportive community outside of the event. Providing a safe and inspiring space to have the kinds of conversations about what it’s REALLY like to be a leader/entrepreneur/creative\, underneath the masks\, is so important. \n$79 \nTICKETS
URL:https://dev.thedepanneur.ca/event/nurture-x-artery-harvest-table-dinner/
LOCATION:The Depanneur\, 1033 College Street\, Toronto\, ON\, M6H 1A8\, Canada
CATEGORIES:Pop Up
ATTACH;FMTTYPE=image/jpeg:https://dev.thedepanneur.ca/wp-content/uploads/2017/12/facebook_event_308555372964782.jpg
GEO:43.6527741;-79.4293691
X-APPLE-STRUCTURED-LOCATION;VALUE=URI;X-ADDRESS=The Depanneur 1033 College Street Toronto ON M6H 1A8 Canada;X-APPLE-RADIUS=500;X-TITLE=1033 College Street:geo:-79.4293691,43.6527741
END:VEVENT
END:VCALENDAR