BEGIN:VCALENDAR
VERSION:2.0
PRODID:-//The Depanneur - ECPv6.8.1//NONSGML v1.0//EN
CALSCALE:GREGORIAN
METHOD:PUBLISH
X-ORIGINAL-URL:https://dev.thedepanneur.ca
X-WR-CALDESC:Events for The Depanneur
REFRESH-INTERVAL;VALUE=DURATION:PT1H
X-Robots-Tag:noindex
X-PUBLISHED-TTL:PT1H
BEGIN:VTIMEZONE
TZID:America/Toronto
BEGIN:DAYLIGHT
TZOFFSETFROM:-0500
TZOFFSETTO:-0400
TZNAME:EDT
DTSTART:20250309T070000
END:DAYLIGHT
BEGIN:STANDARD
TZOFFSETFROM:-0400
TZOFFSETTO:-0500
TZNAME:EST
DTSTART:20251102T060000
END:STANDARD
END:VTIMEZONE
BEGIN:VEVENT
DTSTART;TZID=America/Toronto:20250901T100000
DTEND;TZID=America/Toronto:20250901T123000
DTSTAMP:20260419T112812
CREATED:20250707T211500Z
LAST-MODIFIED:20250707T211744Z
UID:145206-1756720800-1756729800@dev.thedepanneur.ca
SUMMARY:OFFSITE: Labour Day Mushroom Hunting & Foraging Expedition with Puck's Plenty
DESCRIPTION:What better way to celebrate the end of summer and the country we call home?\nJoin us for a fun foraging excursion in the Ontario countryside! We’re taking the show on the road and bringing you directly to the source with an expert guide to educate us on the seasonal species of fungi available in our own backyard. We’ll respectfully take what we can from the land we all share and then return home to cook up our treasures! \nOur expert guide\, Danijela Pulcini from Puck’s Plenty\, has been foraging wild mushrooms and plants her whole life\, first in her native Serbia and since right here in Ontario. She will show us how to safely identify wild species and will discuss medicinal and culinary uses of what we find. \nWe will meet at location (TBC) within 90 minutes of Toronto; The Dep will have a vehicle with a few extra spots\, so let me know if you want to share a ride. \nRecommended items to bring: \n\nsmall knives\ngarden spade\nbasket or mesh bag\nassorted bags (both paper and plastic)\nwater bottle\ninsect repellent\nback pack\n\nParticipants should wear either running shoes or hiking boots as well as long pants. Note: dogs are welcome to join! \n—–\nPuck’s Plenty was established in 2010 by Peter Blush\, who has become a renowned wild mushroom expert here in Ontario after years as a military news correspondent and novelist. Featured for his mushroom expertise on The Oprah Network’s ‘Fearless In the Kitchen’\, The Global Network’s Morning News and many others\, he now delights in taking groups of intrepid foragers into our wooded spaces to enjoy the natural spoils of the land we all share. pucksplenty.com \n\n—–\nThe Depanneur is where Interesting Food Things happen. For more than a decade The Dep has been showcasing Toronto’s remarkable culinary diversity by hosting unique food events.\n@thedepanneur
URL:https://dev.thedepanneur.ca/event/offsite-labour-day-mushroom-hunting-foraging-expedition-with-pucks-plenty/
LOCATION:Barrie Community Sports Complex\, 2100 Nursery Rd\, Minesing\, ON\, L0L 1Y2
CATEGORIES:Pop Up
ATTACH;FMTTYPE=image/jpeg:https://dev.thedepanneur.ca/wp-content/uploads/2025/07/IMG_7003-e1751922825808.jpeg
ORGANIZER;CN="The Depanneur":MAILTO:info@thedepanneur.ca
END:VEVENT
BEGIN:VEVENT
DTSTART;TZID=America/Toronto:20250701T100000
DTEND;TZID=America/Toronto:20250701T123000
DTSTAMP:20260419T112812
CREATED:20250602T175941Z
LAST-MODIFIED:20250602T190737Z
UID:144651-1751364000-1751373000@dev.thedepanneur.ca
SUMMARY:OFFSITE: Canada Day Mushroom Hunting & Foraging Expedition with Puck's Plenty
DESCRIPTION:What better way to celebrate Canada Day and the country we call home?\nJoin us for The Depanneur’s first ever offsite foraging excursion! We’re taking the show on the road and bringing you directly to the source with an expert guide to educate us on the seasonal species of fungi available in our own backyard. We’ll respectfully take what we can from the land we all share and then return home to cook up our treasures! \nOur expert guide\, Danijela Pulcini from Puck’s Plenty\, has been foraging wild mushrooms and plants her whole life\, first in her native Serbia and since right here in Ontario. She will show us how to safely identify wild species and will discuss medicinal and culinary uses of what we find. For this time of year in\, our chosen location\, we will be looking primarily for Summer Oyster mushrooms\, Turkey Tails\, Angel Wings and perhaps some members of the Bolete family. \nWe will meet at 10am sharp (please do not be late) at the Barrie Community Sports Complex in Minesing\, about 15 minutes North of Barrie. Once you pass the first gate\, take the first right into the parking lot and we and Danijela will be waiting there. Once everyone has arrived we will head directly into the woods! \nRecommended items to bring: \n\nsmall knives\ngarden spade\nbasket or mesh bag\nassorted bags (both paper and plastic)\nwater bottle\ninsect repellent\nback pack\n\nParticipants should wear either running shoes or hiking boots as well as long pants. Note: dogs are welcome to join! \n—–\nPuck’s Plenty was established in 2010 by Peter Blush\, who has become a renowned wild mushroom expert here in Ontario after years as a military news correspondent and novelist. Featured for his mushroom expertise on The Oprah Network’s ‘Fearless In the Kitchen’\, The Global Network’s Morning News and many others\, he now delights in taking groups of intrepid foragers into our wooded spaces to enjoy the natural spoils of the land we all share. pucksplenty.com \n\n—–\nThe Depanneur is where Interesting Food Things happen. For more than a decade The Dep has been showcasing Toronto’s remarkable culinary diversity by hosting unique food events.\n@thedepanneur
URL:https://dev.thedepanneur.ca/event/offsite-canada-day-mushroom-hunting-foraging-expedition-with-pucks-plenty/
LOCATION:Barrie Community Sports Complex\, 2100 Nursery Rd\, Minesing\, ON\, L0L 1Y2
CATEGORIES:Pop Up
ATTACH;FMTTYPE=image/jpeg:https://dev.thedepanneur.ca/wp-content/uploads/2025/06/angel-wing-mushroom.jpg
ORGANIZER;CN="The Depanneur":MAILTO:info@thedepanneur.ca
END:VEVENT
END:VCALENDAR